BEGIN:VCALENDAR
VERSION:2.0
PRODID:-//Colegio Loyola | Santo Domingo - ECPv6.15.19//NONSGML v1.0//EN
CALSCALE:GREGORIAN
METHOD:PUBLISH
X-ORIGINAL-URL:https://loyola.edu.do
X-WR-CALDESC:Eventos para Colegio Loyola | Santo Domingo
REFRESH-INTERVAL;VALUE=DURATION:PT1H
X-Robots-Tag:noindex
X-PUBLISHED-TTL:PT1H
BEGIN:VTIMEZONE
TZID:UTC
BEGIN:STANDARD
TZOFFSETFROM:+0000
TZOFFSETTO:+0000
TZNAME:UTC
DTSTART:20200101T000000
END:STANDARD
END:VTIMEZONE
BEGIN:VEVENT
DTSTART;TZID=UTC:20211219T080000
DTEND;TZID=UTC:20211219T170000
DTSTAMP:20260419T102842
CREATED:20211130T174146Z
LAST-MODIFIED:20211130T174146Z
UID:3446-1639900800-1639933200@loyola.edu.do
SUMMARY:4to domingo de Adviento
DESCRIPTION:
URL:https://loyola.edu.do/event/4to-domingo-de-adviento-2/
END:VEVENT
BEGIN:VEVENT
DTSTART;TZID=UTC:20211217T080000
DTEND;TZID=UTC:20211217T170000
DTSTAMP:20260419T102842
CREATED:20211130T173909Z
LAST-MODIFIED:20211130T173909Z
UID:3440-1639728000-1639760400@loyola.edu.do
SUMMARY:Special Day - Cierre de Docencia
DESCRIPTION:
URL:https://loyola.edu.do/event/special-day-cierre-de-docencia/
END:VEVENT
BEGIN:VEVENT
DTSTART;TZID=UTC:20211216T080000
DTEND;TZID=UTC:20211216T140000
DTSTAMP:20260419T102842
CREATED:20211130T173811Z
LAST-MODIFIED:20211130T173811Z
UID:3438-1639641600-1639663200@loyola.edu.do
SUMMARY:Entrega de Informes de Aprendizaje del P1 Nivel Inicial
DESCRIPTION:
URL:https://loyola.edu.do/event/entrega-de-informes-de-aprendizaje-del-p1-nivel-inicial/
END:VEVENT
BEGIN:VEVENT
DTSTART;TZID=UTC:20211215T080000
DTEND;TZID=UTC:20211217T141500
DTSTAMP:20260419T102842
CREATED:20211130T175055Z
LAST-MODIFIED:20211217T164610Z
UID:3454-1639555200-1639750500@loyola.edu.do
SUMMARY:Loyola Christmas Fest
DESCRIPTION:
URL:https://loyola.edu.do/event/loyola-christmas-fest/
END:VEVENT
BEGIN:VEVENT
DTSTART;TZID=UTC:20211212T080000
DTEND;TZID=UTC:20211212T170000
DTSTAMP:20260419T102842
CREATED:20211130T174110Z
LAST-MODIFIED:20211130T174110Z
UID:3444-1639296000-1639328400@loyola.edu.do
SUMMARY:3er Domingo de Adviento
DESCRIPTION:
URL:https://loyola.edu.do/event/3er-domingo-de-adviento/
END:VEVENT
BEGIN:VEVENT
DTSTART;TZID=UTC:20211208T080000
DTEND;TZID=UTC:20211208T170000
DTSTAMP:20260419T102842
CREATED:20211130T173622Z
LAST-MODIFIED:20211130T173622Z
UID:3436-1638950400-1638982800@loyola.edu.do
SUMMARY:Solemnidad de la Inmaculada Concepción
DESCRIPTION:
URL:https://loyola.edu.do/event/solemnidad-de-la-inmaculada-concepcion/
END:VEVENT
BEGIN:VEVENT
DTSTART;TZID=UTC:20211207T190000
DTEND;TZID=UTC:20211207T200000
DTSTAMP:20260419T102842
CREATED:20211130T174307Z
LAST-MODIFIED:20211130T174337Z
UID:3448-1638903600-1638907200@loyola.edu.do
SUMMARY:Reunión con Familias de Inicial - Programa Socioemocional Construyo
DESCRIPTION:
URL:https://loyola.edu.do/event/reunion-con-familias-de-inicial-programa-socioemocional-construyo/
END:VEVENT
BEGIN:VEVENT
DTSTART;TZID=UTC:20211205T080000
DTEND;TZID=UTC:20211205T170000
DTSTAMP:20260419T102842
CREATED:20211130T173417Z
LAST-MODIFIED:20211130T173417Z
UID:3434-1638691200-1638723600@loyola.edu.do
SUMMARY:2do domingo de Adviento
DESCRIPTION:5
URL:https://loyola.edu.do/event/2do-domingo-de-adviento-3/
END:VEVENT
BEGIN:VEVENT
DTSTART;TZID=UTC:20211203T081500
DTEND;TZID=UTC:20211203T091500
DTSTAMP:20260419T102842
CREATED:20211130T173310Z
LAST-MODIFIED:20211130T173310Z
UID:3432-1638519300-1638522900@loyola.edu.do
SUMMARY:Descubrimiento de la Hispaniola (mención)
DESCRIPTION:
URL:https://loyola.edu.do/event/descubrimiento-de-la-hispaniola-mencion/
END:VEVENT
BEGIN:VEVENT
DTSTART;TZID=UTC:20211203T071500
DTEND;TZID=UTC:20211203T081500
DTSTAMP:20260419T102842
CREATED:20211130T173207Z
LAST-MODIFIED:20211130T173207Z
UID:3430-1638515700-1638519300@loyola.edu.do
SUMMARY:Fiesta de San Francisco Javier (Mención)
DESCRIPTION:
URL:https://loyola.edu.do/event/fiesta-de-san-francisco-javier-mencion/
END:VEVENT
BEGIN:VEVENT
DTSTART;TZID=UTC:20211202T073000
DTEND;TZID=UTC:20211202T161500
DTSTAMP:20260419T102842
CREATED:20211130T173102Z
LAST-MODIFIED:20211130T173102Z
UID:3428-1638430200-1638461700@loyola.edu.do
SUMMARY:Entrega de Calificaciones Pruebas Pendientes Nivel Secundario
DESCRIPTION:
URL:https://loyola.edu.do/event/entrega-de-calificaciones-pruebas-pendientes-nivel-secundario/
END:VEVENT
BEGIN:VEVENT
DTSTART;TZID=UTC:20211201T090000
DTEND;TZID=UTC:20211201T100000
DTSTAMP:20260419T102842
CREATED:20211130T175809Z
LAST-MODIFIED:20211130T175918Z
UID:3461-1638349200-1638352800@loyola.edu.do
SUMMARY:Entrega de Ecogalardón al Colegio
DESCRIPTION:
URL:https://loyola.edu.do/event/entrega-de-ecogalardon-al-colegio/
END:VEVENT
BEGIN:VEVENT
DTSTART;TZID=UTC:20211130T071500
DTEND;TZID=UTC:20211130T141500
DTSTAMP:20260419T102842
CREATED:20211025T195214Z
LAST-MODIFIED:20211025T195214Z
UID:3416-1638256500-1638281700@loyola.edu.do
SUMMARY:1ra Pruebas Asignaturas Pendientes Nivel Secundario
DESCRIPTION:
URL:https://loyola.edu.do/event/1ra-pruebas-asignaturas-pendientes-nivel-secundario/
END:VEVENT
BEGIN:VEVENT
DTSTART;TZID=UTC:20211129T073000
DTEND;TZID=UTC:20211129T080000
DTSTAMP:20260419T102842
CREATED:20211025T195038Z
LAST-MODIFIED:20211025T195038Z
UID:3414-1638171000-1638172800@loyola.edu.do
SUMMARY:Encendido de la Corona de Adviento
DESCRIPTION:
URL:https://loyola.edu.do/event/encendido-de-la-corona-de-adviento/
END:VEVENT
BEGIN:VEVENT
DTSTART;TZID=UTC:20211128T071500
DTEND;TZID=UTC:20211128T080000
DTSTAMP:20260419T102842
CREATED:20211025T194928Z
LAST-MODIFIED:20211025T194928Z
UID:3412-1638083700-1638086400@loyola.edu.do
SUMMARY:San Juan Berchmans (mención)
DESCRIPTION:
URL:https://loyola.edu.do/event/san-juan-berchmans-mencion/
END:VEVENT
BEGIN:VEVENT
DTSTART;TZID=UTC:20211125T071500
DTEND;TZID=UTC:20211125T080000
DTSTAMP:20260419T102842
CREATED:20211025T193903Z
LAST-MODIFIED:20211025T193903Z
UID:3410-1637824500-1637827200@loyola.edu.do
SUMMARY:Conmemoración del día Internacional de la No Violencia contra la Mujer
DESCRIPTION:
URL:https://loyola.edu.do/event/conmemoracion-del-dia-internacional-de-la-no-violencia-contra-la-mujer/
END:VEVENT
BEGIN:VEVENT
DTSTART;VALUE=DATE:20211122
DTEND;VALUE=DATE:20211123
DTSTAMP:20260419T102842
CREATED:20211025T193628Z
LAST-MODIFIED:20211025T193628Z
UID:3408-1637539200-1637625599@loyola.edu.do
SUMMARY:Beato Miguel Agustín Pro
DESCRIPTION:
URL:https://loyola.edu.do/event/beato-miguel-agustin-pro/
END:VEVENT
BEGIN:VEVENT
DTSTART;TZID=UTC:20211121T071500
DTEND;TZID=UTC:20211128T180000
DTSTAMP:20260419T102842
CREATED:20211025T193438Z
LAST-MODIFIED:20211025T193438Z
UID:3406-1637478900-1638122400@loyola.edu.do
SUMMARY:Semana Ignaciana
DESCRIPTION:
URL:https://loyola.edu.do/event/semana-ignaciana-3/
END:VEVENT
BEGIN:VEVENT
DTSTART;TZID=UTC:20211119T071500
DTEND;TZID=UTC:20211119T161500
DTSTAMP:20260419T102842
CREATED:20211025T193312Z
LAST-MODIFIED:20211025T193312Z
UID:3404-1637306100-1637338500@loyola.edu.do
SUMMARY:Entrega de Calificaciones P1
DESCRIPTION:
URL:https://loyola.edu.do/event/entrega-de-calificaciones-p1/
END:VEVENT
BEGIN:VEVENT
DTSTART;TZID=UTC:20211118T071500
DTEND;TZID=UTC:20211118T120000
DTSTAMP:20260419T102842
CREATED:20211025T193215Z
LAST-MODIFIED:20211025T193215Z
UID:3402-1637219700-1637236800@loyola.edu.do
SUMMARY:Entrega de Informes de Aprendizaje P1
DESCRIPTION:
URL:https://loyola.edu.do/event/entrega-de-informes-de-aprendizaje-p1/
END:VEVENT
BEGIN:VEVENT
DTSTART;TZID=UTC:20211117T190000
DTEND;TZID=UTC:20211117T213000
DTSTAMP:20260419T102842
CREATED:20211025T195821Z
LAST-MODIFIED:20211102T165004Z
UID:3418-1637175600-1637184600@loyola.edu.do
SUMMARY:Asamblea Antiguos Alumnos Loyola
DESCRIPTION:
URL:https://loyola.edu.do/event/asamblea-antiguos-alumnos-loyola/
END:VEVENT
BEGIN:VEVENT
DTSTART;TZID=UTC:20211116T071500
DTEND;TZID=UTC:20211116T080000
DTSTAMP:20260419T102842
CREATED:20211025T192918Z
LAST-MODIFIED:20211025T193108Z
UID:3399-1637046900-1637049600@loyola.edu.do
SUMMARY:Roque González\, Alonso Rodríguez y Juan del Castillo\, Sacerdotes y Mártires.
DESCRIPTION:
URL:https://loyola.edu.do/event/roque-gonzalez-alonso-rodriguez-y-juan-del-castillo-sacerdotes-y-martires/
END:VEVENT
BEGIN:VEVENT
DTSTART;TZID=UTC:20211112T071500
DTEND;TZID=UTC:20211112T141500
DTSTAMP:20260419T102842
CREATED:20211025T192314Z
LAST-MODIFIED:20211025T192314Z
UID:3396-1636701300-1636726500@loyola.edu.do
SUMMARY:Cierre del P1 Primaria y Secundaria
DESCRIPTION:
URL:https://loyola.edu.do/event/cierre-del-p1-primaria-y-secundaria/
END:VEVENT
BEGIN:VEVENT
DTSTART;TZID=UTC:20211105T071500
DTEND;TZID=UTC:20211105T161500
DTSTAMP:20260419T102842
CREATED:20211025T185517Z
LAST-MODIFIED:20211025T185517Z
UID:3392-1636096500-1636128900@loyola.edu.do
SUMMARY:Fiesta de todos los Santos de la Compañía de Jesús
DESCRIPTION:
URL:https://loyola.edu.do/event/fiesta-de-todos-los-santos-de-la-compania-de-jesus-2/
END:VEVENT
BEGIN:VEVENT
DTSTART;TZID=UTC:20211105T071500
DTEND;TZID=UTC:20211105T080000
DTSTAMP:20260419T102842
CREATED:20211025T185643Z
LAST-MODIFIED:20211025T185643Z
UID:3394-1636096500-1636099200@loyola.edu.do
SUMMARY:Mención Día de la Constitución
DESCRIPTION:
URL:https://loyola.edu.do/event/mencion-dia-de-la-constitucion/
END:VEVENT
BEGIN:VEVENT
DTSTART;TZID=UTC:20211101T073000
DTEND;TZID=UTC:20211101T080000
DTSTAMP:20260419T102842
CREATED:20211025T185228Z
LAST-MODIFIED:20211025T185259Z
UID:3390-1635751800-1635753600@loyola.edu.do
SUMMARY:Beato Ruperto Mayer
DESCRIPTION:
URL:https://loyola.edu.do/event/beato-ruperto-mayer/
END:VEVENT
BEGIN:VEVENT
DTSTART;TZID=UTC:20211101T070000
DTEND;TZID=UTC:20211101T141500
DTSTAMP:20260419T102842
CREATED:20211025T184215Z
LAST-MODIFIED:20211025T185056Z
UID:3388-1635750000-1635776100@loyola.edu.do
SUMMARY:Día de todos los Santos
DESCRIPTION:
URL:https://loyola.edu.do/event/dia-de-todos-los-santos-2/
END:VEVENT
BEGIN:VEVENT
DTSTART;VALUE=DATE:20211029
DTEND;VALUE=DATE:20211030
DTSTAMP:20260419T102842
CREATED:20211001T182116Z
LAST-MODIFIED:20211001T182116Z
UID:3383-1635465600-1635551999@loyola.edu.do
SUMMARY:Cierre de Campaña Domund
DESCRIPTION:
URL:https://loyola.edu.do/event/cierre-de-campana-domund/
END:VEVENT
BEGIN:VEVENT
DTSTART;TZID=UTC:20211018T071500
DTEND;TZID=UTC:20211018T143000
DTSTAMP:20260419T102842
CREATED:20211001T181934Z
LAST-MODIFIED:20211001T181934Z
UID:3380-1634541300-1634567400@loyola.edu.do
SUMMARY:Día de Adoración al Santísimo
DESCRIPTION:
URL:https://loyola.edu.do/event/dia-de-adoracion-al-santisimo/
END:VEVENT
BEGIN:VEVENT
DTSTART;TZID=UTC:20211016T071500
DTEND;TZID=UTC:20211016T161500
DTSTAMP:20260419T102842
CREATED:20211001T181827Z
LAST-MODIFIED:20211001T181827Z
UID:3378-1634368500-1634400900@loyola.edu.do
SUMMARY:Día Mundial de la Alimentación
DESCRIPTION:
URL:https://loyola.edu.do/event/dia-mundial-de-la-alimentacion/
END:VEVENT
END:VCALENDAR