BEGIN:VCALENDAR
VERSION:2.0
PRODID:-//Colegio Loyola | Santo Domingo - ECPv6.15.19//NONSGML v1.0//EN
CALSCALE:GREGORIAN
METHOD:PUBLISH
X-ORIGINAL-URL:https://loyola.edu.do
X-WR-CALDESC:Eventos para Colegio Loyola | Santo Domingo
REFRESH-INTERVAL;VALUE=DURATION:PT1H
X-Robots-Tag:noindex
X-PUBLISHED-TTL:PT1H
BEGIN:VTIMEZONE
TZID:UTC
BEGIN:STANDARD
TZOFFSETFROM:+0000
TZOFFSETTO:+0000
TZNAME:UTC
DTSTART:20200101T000000
END:STANDARD
END:VTIMEZONE
BEGIN:VEVENT
DTSTART;VALUE=DATE:20210621
DTEND;VALUE=DATE:20210622
DTSTAMP:20260419T184051
CREATED:20210507T002007Z
LAST-MODIFIED:20210507T002904Z
UID:3083-1624233600-1624319999@loyola.edu.do
SUMMARY:Eucaristía de Cierre Año Escolar
DESCRIPTION:
URL:https://loyola.edu.do/event/eucaristia-internacional-del-sol/
END:VEVENT
BEGIN:VEVENT
DTSTART;VALUE=DATE:20210619
DTEND;VALUE=DATE:20210620
DTSTAMP:20260419T184051
CREATED:20210507T001916Z
LAST-MODIFIED:20210507T001916Z
UID:3081-1624060800-1624147199@loyola.edu.do
SUMMARY:Fiesta del Sagrado Corazón de Jesús
DESCRIPTION:
URL:https://loyola.edu.do/event/fiesta-del-sagrado-corazon-de-jesus/
END:VEVENT
BEGIN:VEVENT
DTSTART;VALUE=DATE:20210618
DTEND;VALUE=DATE:20210619
DTSTAMP:20260419T184051
CREATED:20210507T001825Z
LAST-MODIFIED:20210507T001825Z
UID:3079-1623974400-1624060799@loyola.edu.do
SUMMARY:Cierre de Docencia
DESCRIPTION:
URL:https://loyola.edu.do/event/cierre-de-docencia/
END:VEVENT
BEGIN:VEVENT
DTSTART;VALUE=DATE:20210618
DTEND;VALUE=DATE:20210619
DTSTAMP:20260419T184051
CREATED:20210507T001748Z
LAST-MODIFIED:20210507T001748Z
UID:3077-1623974400-1624060799@loyola.edu.do
SUMMARY:Entrega de los Informes de Aprendizajes Tercer periodo final (Nivel Inicial) (Presencial)
DESCRIPTION:
URL:https://loyola.edu.do/event/entrega-de-los-informes-de-aprendizajes-tercer-periodo-final-nivel-inicial-presencial/
END:VEVENT
BEGIN:VEVENT
DTSTART;TZID=UTC:20210617T000000
DTEND;TZID=UTC:20210617T235900
DTSTAMP:20260419T184051
CREATED:20210526T224754Z
LAST-MODIFIED:20210526T224754Z
UID:3157-1623888000-1623974340@loyola.edu.do
SUMMARY:Día Mundial contra la Desertificación y la Sequía
DESCRIPTION:
URL:https://loyola.edu.do/event/dia-mundial-contra-la-desertificacion-y-la-sequia/
END:VEVENT
BEGIN:VEVENT
DTSTART;VALUE=DATE:20210616
DTEND;VALUE=DATE:20210617
DTSTAMP:20260419T184051
CREATED:20210507T000601Z
LAST-MODIFIED:20210507T000601Z
UID:3067-1623801600-1623887999@loyola.edu.do
SUMMARY:Diplomado de Pedagogía Ignaciana PPI (Para colaboradores) virtual
DESCRIPTION:
URL:https://loyola.edu.do/event/diplomado-de-pedagogia-ignaciana-ppi-para-colaboradores-virtual-3/
END:VEVENT
BEGIN:VEVENT
DTSTART;TZID=UTC:20210616T000000
DTEND;TZID=UTC:20210616T235900
DTSTAMP:20260419T184051
CREATED:20210526T224638Z
LAST-MODIFIED:20210526T225011Z
UID:3155-1623801600-1623887940@loyola.edu.do
SUMMARY:Día Mundial de las Tortugas Marinas
DESCRIPTION:
URL:https://loyola.edu.do/event/dia-mundial-de-las-tortugas-marinas/
END:VEVENT
BEGIN:VEVENT
DTSTART;VALUE=DATE:20210609
DTEND;VALUE=DATE:20210610
DTSTAMP:20260419T184051
CREATED:20210507T000532Z
LAST-MODIFIED:20210507T000532Z
UID:3065-1623196800-1623283199@loyola.edu.do
SUMMARY:Diplomado de Pedagogía Ignaciana PPI (Para colaboradores) virtual
DESCRIPTION:
URL:https://loyola.edu.do/event/diplomado-de-pedagogia-ignaciana-ppi-para-colaboradores-virtual-2/
END:VEVENT
BEGIN:VEVENT
DTSTART;VALUE=DATE:20210608
DTEND;VALUE=DATE:20210613
DTSTAMP:20260419T184051
CREATED:20210506T234221Z
LAST-MODIFIED:20210526T224409Z
UID:3059-1623110400-1623542399@loyola.edu.do
SUMMARY:Home Room de Cierre
DESCRIPTION:
URL:https://loyola.edu.do/event/home-room-de-cierre/
END:VEVENT
BEGIN:VEVENT
DTSTART;TZID=UTC:20210608T000000
DTEND;TZID=UTC:20210608T235900
DTSTAMP:20260419T184051
CREATED:20210526T224542Z
LAST-MODIFIED:20210526T225049Z
UID:3153-1623110400-1623196740@loyola.edu.do
SUMMARY:Día Mundial de los Océanos
DESCRIPTION:
URL:https://loyola.edu.do/event/dia-mundial-de-los-oceanos/
END:VEVENT
BEGIN:VEVENT
DTSTART;VALUE=DATE:20210605
DTEND;VALUE=DATE:20210606
DTSTAMP:20260419T184051
CREATED:20210507T001443Z
LAST-MODIFIED:20210507T001443Z
UID:3075-1622851200-1622937599@loyola.edu.do
SUMMARY:Sacramento de la Confirmación 4to. y 5to de Secundaria
DESCRIPTION:
URL:https://loyola.edu.do/event/sacramento-de-la-confirmacion-4to-y-5to-de-secundaria/
END:VEVENT
BEGIN:VEVENT
DTSTART;TZID=UTC:20210605T000000
DTEND;TZID=UTC:20210605T235900
DTSTAMP:20260419T184051
CREATED:20210526T224455Z
LAST-MODIFIED:20210526T225117Z
UID:3151-1622851200-1622937540@loyola.edu.do
SUMMARY:Día Mundial de Medioambiente
DESCRIPTION:
URL:https://loyola.edu.do/event/dia-mundial-de-medioambiente/
END:VEVENT
BEGIN:VEVENT
DTSTART;VALUE=DATE:20210604
DTEND;VALUE=DATE:20210605
DTSTAMP:20260419T184051
CREATED:20210507T001328Z
LAST-MODIFIED:20210507T001328Z
UID:3073-1622764800-1622851199@loyola.edu.do
SUMMARY:Ensayo General de Sacramento de la Confirmación 4to. y 5to. de Secundaria
DESCRIPTION:
URL:https://loyola.edu.do/event/ensayo-general-de-sacramento-de-la-confirmacion-4to-y-5to-de-secundaria/
END:VEVENT
BEGIN:VEVENT
DTSTART;TZID=UTC:20210603T110000
DTEND;TZID=UTC:20210603T125900
DTSTAMP:20260419T184051
CREATED:20210507T000832Z
LAST-MODIFIED:20210510T163536Z
UID:3071-1622718000-1622725140@loyola.edu.do
SUMMARY:No laborable. Corpus Christi
DESCRIPTION:
URL:https://loyola.edu.do/event/no-laborable-corpus-christi/
END:VEVENT
BEGIN:VEVENT
DTSTART;TZID=UTC:20210602T150000
DTEND;TZID=UTC:20210602T170000
DTSTAMP:20260419T184051
CREATED:20210507T000436Z
LAST-MODIFIED:20210510T165549Z
UID:3063-1622646000-1622653200@loyola.edu.do
SUMMARY:Diplomado  PPI (para colaboradores) virtual
DESCRIPTION:
URL:https://loyola.edu.do/event/diplomado-de-pedagogia-ignaciana-ppi-para-colaboradores-virtual/
END:VEVENT
BEGIN:VEVENT
DTSTART;VALUE=DATE:20210530
DTEND;VALUE=DATE:20210531
DTSTAMP:20260419T184051
CREATED:20210506T234254Z
LAST-MODIFIED:20210506T235016Z
UID:3061-1622332800-1622419199@loyola.edu.do
SUMMARY:Día de las Madres
DESCRIPTION:
URL:https://loyola.edu.do/event/dia-de-las-madres-2/
END:VEVENT
BEGIN:VEVENT
DTSTART;TZID=UTC:20210526T150000
DTEND;TZID=UTC:20210526T170000
DTSTAMP:20260419T184051
CREATED:20210510T165850Z
LAST-MODIFIED:20210510T165850Z
UID:3124-1622041200-1622048400@loyola.edu.do
SUMMARY:Diplomado PPI Cuarto y Quinto Encuentro (Virtual)
DESCRIPTION:
URL:https://loyola.edu.do/event/diplomado-ppi-cuarto-y-quinto-encuentro-virtual/
END:VEVENT
BEGIN:VEVENT
DTSTART;VALUE=DATE:20210522
DTEND;VALUE=DATE:20210523
DTSTAMP:20260419T184051
CREATED:20210506T234116Z
LAST-MODIFIED:20210506T234116Z
UID:3057-1621641600-1621727999@loyola.edu.do
SUMMARY:Apertura Año Ignaciano (Compañia de Jesús) (Sección Dominicana)
DESCRIPTION:
URL:https://loyola.edu.do/event/apertura-ano-ignaciano-compania-de-jesus-seccion-dominicana/
END:VEVENT
BEGIN:VEVENT
DTSTART;VALUE=DATE:20210520
DTEND;VALUE=DATE:20210521
DTSTAMP:20260419T184051
CREATED:20210506T234025Z
LAST-MODIFIED:20210506T234025Z
UID:3055-1621468800-1621555199@loyola.edu.do
SUMMARY:Apertura Año Ignaciano (Compañia de Jesús) (virtual)
DESCRIPTION:
URL:https://loyola.edu.do/event/apertura-ano-ignaciano-compania-de-jesus-virtual/
END:VEVENT
BEGIN:VEVENT
DTSTART;TZID=UTC:20210519T150000
DTEND;TZID=UTC:20210519T170000
DTSTAMP:20260419T184051
CREATED:20210506T233550Z
LAST-MODIFIED:20210510T165324Z
UID:3047-1621436400-1621443600@loyola.edu.do
SUMMARY:Conferencia de Sentido\, Razón y Ser de la Educación en la Compañía de Jesús
DESCRIPTION:
URL:https://loyola.edu.do/event/primera-comunion-5to-de-primaria/
END:VEVENT
BEGIN:VEVENT
DTSTART;TZID=UTC:20210519T150000
DTEND;TZID=UTC:20210519T161500
DTSTAMP:20260419T184051
CREATED:20210506T233911Z
LAST-MODIFIED:20210510T165106Z
UID:3053-1621436400-1621440900@loyola.edu.do
SUMMARY:Diplomado PPI - Tercer Encuentro (Virtual)
DESCRIPTION:
URL:https://loyola.edu.do/event/diplomado-ppi-para-colaboradores/
END:VEVENT
BEGIN:VEVENT
DTSTART;VALUE=DATE:20210515
DTEND;VALUE=DATE:20210516
DTSTAMP:20260419T184051
CREATED:20210506T233817Z
LAST-MODIFIED:20210506T233817Z
UID:3051-1621036800-1621123199@loyola.edu.do
SUMMARY:Sacramento de la Primera Comunión 5to de Primaria
DESCRIPTION:
URL:https://loyola.edu.do/event/sacramento-de-la-primera-comunion-5to-de-primaria/
END:VEVENT
BEGIN:VEVENT
DTSTART;TZID=UTC:20210512T150000
DTEND;TZID=UTC:20210512T170000
DTSTAMP:20260419T184051
CREATED:20210510T164855Z
LAST-MODIFIED:20210510T164855Z
UID:3119-1620831600-1620838800@loyola.edu.do
SUMMARY:PPI Segundo Encuentro (Virtual)
DESCRIPTION:
URL:https://loyola.edu.do/event/ppi-segundo-encuentro-virtual/
END:VEVENT
BEGIN:VEVENT
DTSTART;VALUE=DATE:20210512
DTEND;VALUE=DATE:20210513
DTSTAMP:20260419T184051
CREATED:20210506T233202Z
LAST-MODIFIED:20210506T233248Z
UID:3042-1620777600-1620863999@loyola.edu.do
SUMMARY:Ensayo General Sacramento Primera Comunión
DESCRIPTION:
URL:https://loyola.edu.do/event/retiro-y-eucaristia-preparacion-sacramento-primera-comunion/
END:VEVENT
BEGIN:VEVENT
DTSTART;VALUE=DATE:20210511
DTEND;VALUE=DATE:20210512
DTSTAMP:20260419T184051
CREATED:20210506T233431Z
LAST-MODIFIED:20210506T233431Z
UID:3045-1620691200-1620777599@loyola.edu.do
SUMMARY:Retiro y Eucaristía Preparación Sacramento Primera Comunión
DESCRIPTION:
URL:https://loyola.edu.do/event/retiro-y-eucaristia-preparacion-sacramento-primera-comunion-2/
END:VEVENT
BEGIN:VEVENT
DTSTART;VALUE=DATE:20210430
DTEND;VALUE=DATE:20210501
DTSTAMP:20260419T184051
CREATED:20210406T180212Z
LAST-MODIFIED:20210406T180212Z
UID:2897-1619740800-1619827199@loyola.edu.do
SUMMARY:Viernes solidarios. Voluntariado DasMás (Mensual) (Pastoral)
DESCRIPTION:
URL:https://loyola.edu.do/event/viernes-solidarios-voluntariado-dasmas-mensual-pastoral/
END:VEVENT
BEGIN:VEVENT
DTSTART;VALUE=DATE:20210428
DTEND;VALUE=DATE:20210429
DTSTAMP:20260419T184051
CREATED:20210406T180130Z
LAST-MODIFIED:20210406T180130Z
UID:2895-1619568000-1619654399@loyola.edu.do
SUMMARY:Tercera entrega de informes de Aprendizaje de Nivel Primario
DESCRIPTION:
URL:https://loyola.edu.do/event/tercera-entrega-de-informes-de-aprendizaje-de-nivel-primario/
END:VEVENT
BEGIN:VEVENT
DTSTART;VALUE=DATE:20210427
DTEND;VALUE=DATE:20210428
DTSTAMP:20260419T184051
CREATED:20210406T180023Z
LAST-MODIFIED:20210406T180023Z
UID:2893-1619481600-1619567999@loyola.edu.do
SUMMARY:XII Festival de Cine Loyola (Virtual)
DESCRIPTION:
URL:https://loyola.edu.do/event/xii-festival-de-cine-loyola-virtual/
END:VEVENT
BEGIN:VEVENT
DTSTART;TZID=UTC:20210424T080000
DTEND;TZID=UTC:20210424T170000
DTSTAMP:20260419T184051
CREATED:20210406T175837Z
LAST-MODIFIED:20210406T175837Z
UID:2889-1619251200-1619283600@loyola.edu.do
SUMMARY:Revolución 24 de Abril
DESCRIPTION:
URL:https://loyola.edu.do/event/revolucion-24-de-abril/
END:VEVENT
BEGIN:VEVENT
DTSTART;VALUE=DATE:20210423
DTEND;VALUE=DATE:20210424
DTSTAMP:20260419T184051
CREATED:20210406T175739Z
LAST-MODIFIED:20210406T175739Z
UID:2887-1619136000-1619222399@loyola.edu.do
SUMMARY:Día Mundial del Libro y del Derecho de Autor
DESCRIPTION:
URL:https://loyola.edu.do/event/dia-mundial-del-libro-y-del-derecho-de-autor-2/
END:VEVENT
END:VCALENDAR