BEGIN:VCALENDAR
VERSION:2.0
PRODID:-//Colegio Loyola | Santo Domingo - ECPv6.15.19//NONSGML v1.0//EN
CALSCALE:GREGORIAN
METHOD:PUBLISH
X-WR-CALNAME:Colegio Loyola | Santo Domingo
X-ORIGINAL-URL:https://loyola.edu.do
X-WR-CALDESC:Eventos para Colegio Loyola | Santo Domingo
REFRESH-INTERVAL;VALUE=DURATION:PT1H
X-Robots-Tag:noindex
X-PUBLISHED-TTL:PT1H
BEGIN:VTIMEZONE
TZID:UTC
BEGIN:STANDARD
TZOFFSETFROM:+0000
TZOFFSETTO:+0000
TZNAME:UTC
DTSTART:20200101T000000
END:STANDARD
END:VTIMEZONE
BEGIN:VEVENT
DTSTART;TZID=UTC:20210519T150000
DTEND;TZID=UTC:20210519T161500
DTSTAMP:20260419T214611
CREATED:20210506T233911Z
LAST-MODIFIED:20210510T165106Z
UID:3053-1621436400-1621440900@loyola.edu.do
SUMMARY:Diplomado PPI - Tercer Encuentro (Virtual)
DESCRIPTION:
URL:https://loyola.edu.do/event/diplomado-ppi-para-colaboradores/
END:VEVENT
BEGIN:VEVENT
DTSTART;VALUE=DATE:20210515
DTEND;VALUE=DATE:20210516
DTSTAMP:20260419T214611
CREATED:20210506T233817Z
LAST-MODIFIED:20210506T233817Z
UID:3051-1621036800-1621123199@loyola.edu.do
SUMMARY:Sacramento de la Primera Comunión 5to de Primaria
DESCRIPTION:
URL:https://loyola.edu.do/event/sacramento-de-la-primera-comunion-5to-de-primaria/
END:VEVENT
BEGIN:VEVENT
DTSTART;TZID=UTC:20210512T150000
DTEND;TZID=UTC:20210512T170000
DTSTAMP:20260419T214611
CREATED:20210510T164855Z
LAST-MODIFIED:20210510T164855Z
UID:3119-1620831600-1620838800@loyola.edu.do
SUMMARY:PPI Segundo Encuentro (Virtual)
DESCRIPTION:
URL:https://loyola.edu.do/event/ppi-segundo-encuentro-virtual/
END:VEVENT
BEGIN:VEVENT
DTSTART;VALUE=DATE:20210512
DTEND;VALUE=DATE:20210513
DTSTAMP:20260419T214611
CREATED:20210506T233202Z
LAST-MODIFIED:20210506T233248Z
UID:3042-1620777600-1620863999@loyola.edu.do
SUMMARY:Ensayo General Sacramento Primera Comunión
DESCRIPTION:
URL:https://loyola.edu.do/event/retiro-y-eucaristia-preparacion-sacramento-primera-comunion/
END:VEVENT
BEGIN:VEVENT
DTSTART;VALUE=DATE:20210511
DTEND;VALUE=DATE:20210512
DTSTAMP:20260419T214611
CREATED:20210506T233431Z
LAST-MODIFIED:20210506T233431Z
UID:3045-1620691200-1620777599@loyola.edu.do
SUMMARY:Retiro y Eucaristía Preparación Sacramento Primera Comunión
DESCRIPTION:
URL:https://loyola.edu.do/event/retiro-y-eucaristia-preparacion-sacramento-primera-comunion-2/
END:VEVENT
BEGIN:VEVENT
DTSTART;VALUE=DATE:20210430
DTEND;VALUE=DATE:20210501
DTSTAMP:20260419T214611
CREATED:20210406T180212Z
LAST-MODIFIED:20210406T180212Z
UID:2897-1619740800-1619827199@loyola.edu.do
SUMMARY:Viernes solidarios. Voluntariado DasMás (Mensual) (Pastoral)
DESCRIPTION:
URL:https://loyola.edu.do/event/viernes-solidarios-voluntariado-dasmas-mensual-pastoral/
END:VEVENT
BEGIN:VEVENT
DTSTART;VALUE=DATE:20210428
DTEND;VALUE=DATE:20210429
DTSTAMP:20260419T214611
CREATED:20210406T180130Z
LAST-MODIFIED:20210406T180130Z
UID:2895-1619568000-1619654399@loyola.edu.do
SUMMARY:Tercera entrega de informes de Aprendizaje de Nivel Primario
DESCRIPTION:
URL:https://loyola.edu.do/event/tercera-entrega-de-informes-de-aprendizaje-de-nivel-primario/
END:VEVENT
BEGIN:VEVENT
DTSTART;VALUE=DATE:20210427
DTEND;VALUE=DATE:20210428
DTSTAMP:20260419T214611
CREATED:20210406T180023Z
LAST-MODIFIED:20210406T180023Z
UID:2893-1619481600-1619567999@loyola.edu.do
SUMMARY:XII Festival de Cine Loyola (Virtual)
DESCRIPTION:
URL:https://loyola.edu.do/event/xii-festival-de-cine-loyola-virtual/
END:VEVENT
BEGIN:VEVENT
DTSTART;TZID=UTC:20210424T080000
DTEND;TZID=UTC:20210424T170000
DTSTAMP:20260419T214611
CREATED:20210406T175837Z
LAST-MODIFIED:20210406T175837Z
UID:2889-1619251200-1619283600@loyola.edu.do
SUMMARY:Revolución 24 de Abril
DESCRIPTION:
URL:https://loyola.edu.do/event/revolucion-24-de-abril/
END:VEVENT
BEGIN:VEVENT
DTSTART;VALUE=DATE:20210423
DTEND;VALUE=DATE:20210424
DTSTAMP:20260419T214611
CREATED:20210406T175739Z
LAST-MODIFIED:20210406T175739Z
UID:2887-1619136000-1619222399@loyola.edu.do
SUMMARY:Día Mundial del Libro y del Derecho de Autor
DESCRIPTION:
URL:https://loyola.edu.do/event/dia-mundial-del-libro-y-del-derecho-de-autor-2/
END:VEVENT
BEGIN:VEVENT
DTSTART;VALUE=DATE:20210422
DTEND;VALUE=DATE:20210423
DTSTAMP:20260419T214611
CREATED:20210406T175912Z
LAST-MODIFIED:20210406T175912Z
UID:2891-1619049600-1619135999@loyola.edu.do
SUMMARY:Día Mundial de la Tierra
DESCRIPTION:
URL:https://loyola.edu.do/event/dia-mundial-de-la-tierra/
END:VEVENT
BEGIN:VEVENT
DTSTART;VALUE=DATE:20210422
DTEND;VALUE=DATE:20210423
DTSTAMP:20260419T214611
CREATED:20210406T175653Z
LAST-MODIFIED:20210406T175653Z
UID:2885-1619049600-1619135999@loyola.edu.do
SUMMARY:Fiesta Santa María Virgen
DESCRIPTION:
URL:https://loyola.edu.do/event/fiesta-santa-maria-virgen/
END:VEVENT
BEGIN:VEVENT
DTSTART;VALUE=DATE:20210415
DTEND;VALUE=DATE:20210416
DTSTAMP:20260419T214611
CREATED:20210408T231357Z
LAST-MODIFIED:20210408T231357Z
UID:2909-1618444800-1618531199@loyola.edu.do
SUMMARY:Evaluación Académica- Nuevo Ingreso
DESCRIPTION:
URL:https://loyola.edu.do/event/evaluacion-academica-nuevo-ingreso/
END:VEVENT
BEGIN:VEVENT
DTSTART;VALUE=DATE:20210414
DTEND;VALUE=DATE:20210416
DTSTAMP:20260419T214611
CREATED:20210406T175527Z
LAST-MODIFIED:20210406T175527Z
UID:2883-1618358400-1618531199@loyola.edu.do
SUMMARY:Taller de Oración Ignaciana
DESCRIPTION:
URL:https://loyola.edu.do/event/taller-de-oracion-ignaciana/
END:VEVENT
BEGIN:VEVENT
DTSTART;VALUE=DATE:20210413
DTEND;VALUE=DATE:20210414
DTSTAMP:20260419T214611
CREATED:20210409T222227Z
LAST-MODIFIED:20210409T222227Z
UID:2911-1618272000-1618358399@loyola.edu.do
SUMMARY:Prueba psicológicas Admisiones
DESCRIPTION:
URL:https://loyola.edu.do/event/prueba-psicologicas-admisiones/
END:VEVENT
BEGIN:VEVENT
DTSTART;VALUE=DATE:20210413
DTEND;VALUE=DATE:20210414
DTSTAMP:20260419T214611
CREATED:20210408T231311Z
LAST-MODIFIED:20210408T231311Z
UID:2907-1618272000-1618358399@loyola.edu.do
SUMMARY:Evaluación Psicológica - Nuevo Ingreso
DESCRIPTION:
URL:https://loyola.edu.do/event/evaluacion-psicologica-nuevo-ingreso/
END:VEVENT
BEGIN:VEVENT
DTSTART;VALUE=DATE:20210408
DTEND;VALUE=DATE:20210409
DTSTAMP:20260419T214611
CREATED:20210406T174207Z
LAST-MODIFIED:20210406T174207Z
UID:2881-1617840000-1617926399@loyola.edu.do
SUMMARY:Reinicio de Docencia virtual
DESCRIPTION:
URL:https://loyola.edu.do/event/reinicio-de-docencia-virtual/
END:VEVENT
BEGIN:VEVENT
DTSTART;VALUE=DATE:20210407
DTEND;VALUE=DATE:20210408
DTSTAMP:20260419T214611
CREATED:20210406T174117Z
LAST-MODIFIED:20210406T174117Z
UID:2879-1617753600-1617839999@loyola.edu.do
SUMMARY:Jornada de Vacunación de personal
DESCRIPTION:
URL:https://loyola.edu.do/event/jornada-de-vacunacion-de-personal/
END:VEVENT
BEGIN:VEVENT
DTSTART;VALUE=DATE:20210406
DTEND;VALUE=DATE:20210407
DTSTAMP:20260419T214611
CREATED:20210406T174030Z
LAST-MODIFIED:20210406T174030Z
UID:2877-1617667200-1617753599@loyola.edu.do
SUMMARY:Reintegración de Personal Docente y Administrativo (GH)
DESCRIPTION:
URL:https://loyola.edu.do/event/reintegracion-de-personal-docente-y-administrativo-gh/
END:VEVENT
BEGIN:VEVENT
DTSTART;VALUE=DATE:20210406
DTEND;VALUE=DATE:20210407
DTSTAMP:20260419T214611
CREATED:20210406T174001Z
LAST-MODIFIED:20210406T174001Z
UID:2875-1617667200-1617753599@loyola.edu.do
SUMMARY:Día Nacional del Psicólogo
DESCRIPTION:
URL:https://loyola.edu.do/event/dia-nacional-del-psicologo/
END:VEVENT
BEGIN:VEVENT
DTSTART;VALUE=DATE:20210405
DTEND;VALUE=DATE:20210408
DTSTAMP:20260419T214611
CREATED:20210406T180359Z
LAST-MODIFIED:20210406T180359Z
UID:2899-1617580800-1617839999@loyola.edu.do
SUMMARY:Descanso Semana Santa (estudiantes)
DESCRIPTION:
URL:https://loyola.edu.do/event/descanso-semana-santa-estudiantes/
END:VEVENT
BEGIN:VEVENT
DTSTART;VALUE=DATE:20210405
DTEND;VALUE=DATE:20210406
DTSTAMP:20260419T214611
CREATED:20210311T163610Z
LAST-MODIFIED:20210311T163610Z
UID:2850-1617580800-1617667199@loyola.edu.do
SUMMARY:Lunes de Pascua
DESCRIPTION:
URL:https://loyola.edu.do/event/lunes-de-pascua/
END:VEVENT
BEGIN:VEVENT
DTSTART;VALUE=DATE:20210404
DTEND;VALUE=DATE:20210405
DTSTAMP:20260419T214611
CREATED:20210311T163446Z
LAST-MODIFIED:20210311T163446Z
UID:2848-1617494400-1617580799@loyola.edu.do
SUMMARY:Domingo de Resurrección
DESCRIPTION:
URL:https://loyola.edu.do/event/domingo-de-resurreccion-2/
END:VEVENT
BEGIN:VEVENT
DTSTART;VALUE=DATE:20210403
DTEND;VALUE=DATE:20210404
DTSTAMP:20260419T214611
CREATED:20210311T163407Z
LAST-MODIFIED:20210311T163407Z
UID:2846-1617408000-1617494399@loyola.edu.do
SUMMARY:Sábado Santo
DESCRIPTION:
URL:https://loyola.edu.do/event/sabado-santo/
END:VEVENT
BEGIN:VEVENT
DTSTART;VALUE=DATE:20210402
DTEND;VALUE=DATE:20210403
DTSTAMP:20260419T214611
CREATED:20210311T163310Z
LAST-MODIFIED:20210312T225749Z
UID:2844-1617321600-1617407999@loyola.edu.do
SUMMARY:Viernes Santo
DESCRIPTION:
URL:https://loyola.edu.do/event/viernes-santo/
ATTACH;FMTTYPE=image/jpeg:https://loyola.edu.do/wp-content/uploads/2021/03/IMG_7617.jpg
END:VEVENT
BEGIN:VEVENT
DTSTART;VALUE=DATE:20210401
DTEND;VALUE=DATE:20210402
DTSTAMP:20260419T214611
CREATED:20210311T163237Z
LAST-MODIFIED:20210311T163237Z
UID:2842-1617235200-1617321599@loyola.edu.do
SUMMARY:Jueves Santo
DESCRIPTION:
URL:https://loyola.edu.do/event/jueves-santo/
END:VEVENT
BEGIN:VEVENT
DTSTART;VALUE=DATE:20210330
DTEND;VALUE=DATE:20210331
DTSTAMP:20260419T214611
CREATED:20210311T162941Z
LAST-MODIFIED:20210311T162941Z
UID:2840-1617062400-1617148799@loyola.edu.do
SUMMARY:Conmemoración Batalla 30 de Marzo
DESCRIPTION:
URL:https://loyola.edu.do/event/conmemoracion-batalla-30-de-marzo/
END:VEVENT
BEGIN:VEVENT
DTSTART;VALUE=DATE:20210328
DTEND;VALUE=DATE:20210329
DTSTAMP:20260419T214611
CREATED:20210310T230306Z
LAST-MODIFIED:20210310T230306Z
UID:2838-1616889600-1616975999@loyola.edu.do
SUMMARY:Domingo de Ramos
DESCRIPTION:
URL:https://loyola.edu.do/event/domingo-de-ramos-3/
END:VEVENT
BEGIN:VEVENT
DTSTART;VALUE=DATE:20210327
DTEND;VALUE=DATE:20210328
DTSTAMP:20260419T214611
CREATED:20210310T230148Z
LAST-MODIFIED:20210310T230148Z
UID:2836-1616803200-1616889599@loyola.edu.do
SUMMARY:Día del Teatro
DESCRIPTION:
URL:https://loyola.edu.do/event/dia-del-teatro/
END:VEVENT
BEGIN:VEVENT
DTSTART;VALUE=DATE:20210326
DTEND;VALUE=DATE:20210327
DTSTAMP:20260419T214611
CREATED:20210310T225858Z
LAST-MODIFIED:20210310T225858Z
UID:2834-1616716800-1616803199@loyola.edu.do
SUMMARY:Viacrucis Virtual (Pastoral)
DESCRIPTION:
URL:https://loyola.edu.do/event/viacrucis-virtual-pastoral/
END:VEVENT
END:VCALENDAR