BEGIN:VCALENDAR
VERSION:2.0
PRODID:-//Colegio Loyola | Santo Domingo - ECPv6.15.19//NONSGML v1.0//EN
CALSCALE:GREGORIAN
METHOD:PUBLISH
X-WR-CALNAME:Colegio Loyola | Santo Domingo
X-ORIGINAL-URL:https://loyola.edu.do
X-WR-CALDESC:Eventos para Colegio Loyola | Santo Domingo
REFRESH-INTERVAL;VALUE=DURATION:PT1H
X-Robots-Tag:noindex
X-PUBLISHED-TTL:PT1H
BEGIN:VTIMEZONE
TZID:UTC
BEGIN:STANDARD
TZOFFSETFROM:+0000
TZOFFSETTO:+0000
TZNAME:UTC
DTSTART:20200101T000000
END:STANDARD
END:VTIMEZONE
BEGIN:VEVENT
DTSTART;VALUE=DATE:20210405
DTEND;VALUE=DATE:20210408
DTSTAMP:20260420T003707
CREATED:20210406T180359Z
LAST-MODIFIED:20210406T180359Z
UID:2899-1617580800-1617839999@loyola.edu.do
SUMMARY:Descanso Semana Santa (estudiantes)
DESCRIPTION:
URL:https://loyola.edu.do/event/descanso-semana-santa-estudiantes/
END:VEVENT
BEGIN:VEVENT
DTSTART;VALUE=DATE:20210405
DTEND;VALUE=DATE:20210406
DTSTAMP:20260420T003707
CREATED:20210311T163610Z
LAST-MODIFIED:20210311T163610Z
UID:2850-1617580800-1617667199@loyola.edu.do
SUMMARY:Lunes de Pascua
DESCRIPTION:
URL:https://loyola.edu.do/event/lunes-de-pascua/
END:VEVENT
BEGIN:VEVENT
DTSTART;VALUE=DATE:20210404
DTEND;VALUE=DATE:20210405
DTSTAMP:20260420T003707
CREATED:20210311T163446Z
LAST-MODIFIED:20210311T163446Z
UID:2848-1617494400-1617580799@loyola.edu.do
SUMMARY:Domingo de Resurrección
DESCRIPTION:
URL:https://loyola.edu.do/event/domingo-de-resurreccion-2/
END:VEVENT
BEGIN:VEVENT
DTSTART;VALUE=DATE:20210403
DTEND;VALUE=DATE:20210404
DTSTAMP:20260420T003707
CREATED:20210311T163407Z
LAST-MODIFIED:20210311T163407Z
UID:2846-1617408000-1617494399@loyola.edu.do
SUMMARY:Sábado Santo
DESCRIPTION:
URL:https://loyola.edu.do/event/sabado-santo/
END:VEVENT
BEGIN:VEVENT
DTSTART;VALUE=DATE:20210402
DTEND;VALUE=DATE:20210403
DTSTAMP:20260420T003707
CREATED:20210311T163310Z
LAST-MODIFIED:20210312T225749Z
UID:2844-1617321600-1617407999@loyola.edu.do
SUMMARY:Viernes Santo
DESCRIPTION:
URL:https://loyola.edu.do/event/viernes-santo/
ATTACH;FMTTYPE=image/jpeg:https://loyola.edu.do/wp-content/uploads/2021/03/IMG_7617.jpg
END:VEVENT
BEGIN:VEVENT
DTSTART;VALUE=DATE:20210401
DTEND;VALUE=DATE:20210402
DTSTAMP:20260420T003707
CREATED:20210311T163237Z
LAST-MODIFIED:20210311T163237Z
UID:2842-1617235200-1617321599@loyola.edu.do
SUMMARY:Jueves Santo
DESCRIPTION:
URL:https://loyola.edu.do/event/jueves-santo/
END:VEVENT
BEGIN:VEVENT
DTSTART;VALUE=DATE:20210330
DTEND;VALUE=DATE:20210331
DTSTAMP:20260420T003707
CREATED:20210311T162941Z
LAST-MODIFIED:20210311T162941Z
UID:2840-1617062400-1617148799@loyola.edu.do
SUMMARY:Conmemoración Batalla 30 de Marzo
DESCRIPTION:
URL:https://loyola.edu.do/event/conmemoracion-batalla-30-de-marzo/
END:VEVENT
BEGIN:VEVENT
DTSTART;VALUE=DATE:20210328
DTEND;VALUE=DATE:20210329
DTSTAMP:20260420T003707
CREATED:20210310T230306Z
LAST-MODIFIED:20210310T230306Z
UID:2838-1616889600-1616975999@loyola.edu.do
SUMMARY:Domingo de Ramos
DESCRIPTION:
URL:https://loyola.edu.do/event/domingo-de-ramos-3/
END:VEVENT
BEGIN:VEVENT
DTSTART;VALUE=DATE:20210327
DTEND;VALUE=DATE:20210328
DTSTAMP:20260420T003707
CREATED:20210310T230148Z
LAST-MODIFIED:20210310T230148Z
UID:2836-1616803200-1616889599@loyola.edu.do
SUMMARY:Día del Teatro
DESCRIPTION:
URL:https://loyola.edu.do/event/dia-del-teatro/
END:VEVENT
BEGIN:VEVENT
DTSTART;VALUE=DATE:20210326
DTEND;VALUE=DATE:20210327
DTSTAMP:20260420T003707
CREATED:20210310T225858Z
LAST-MODIFIED:20210310T225858Z
UID:2834-1616716800-1616803199@loyola.edu.do
SUMMARY:Viacrucis Virtual (Pastoral)
DESCRIPTION:
URL:https://loyola.edu.do/event/viacrucis-virtual-pastoral/
END:VEVENT
BEGIN:VEVENT
DTSTART;VALUE=DATE:20210326
DTEND;VALUE=DATE:20210327
DTSTAMP:20260420T003707
CREATED:20210310T182519Z
LAST-MODIFIED:20210310T182625Z
UID:2828-1616716800-1616803199@loyola.edu.do
SUMMARY:Viernes de Dolores
DESCRIPTION:
URL:https://loyola.edu.do/event/escuela-de-padres/
END:VEVENT
BEGIN:VEVENT
DTSTART;VALUE=DATE:20210325
DTEND;VALUE=DATE:20210326
DTSTAMP:20260420T003707
CREATED:20210311T164734Z
LAST-MODIFIED:20210311T165636Z
UID:2861-1616630400-1616716799@loyola.edu.do
SUMMARY:Último día de matriculación Año Escolar 2021-2022
DESCRIPTION:
URL:https://loyola.edu.do/event/ultimo-dia-matriculacion-2021-2022/
END:VEVENT
BEGIN:VEVENT
DTSTART;VALUE=DATE:20210324
DTEND;VALUE=DATE:20210325
DTSTAMP:20260420T003707
CREATED:20210310T182724Z
LAST-MODIFIED:20210310T182724Z
UID:2831-1616544000-1616630399@loyola.edu.do
SUMMARY:Escuela de Padres
DESCRIPTION:
URL:https://loyola.edu.do/event/escuela-de-padres-2/
END:VEVENT
BEGIN:VEVENT
DTSTART;VALUE=DATE:20210319
DTEND;VALUE=DATE:20210320
DTSTAMP:20260420T003707
CREATED:20210310T182329Z
LAST-MODIFIED:20210310T182329Z
UID:2826-1616112000-1616198399@loyola.edu.do
SUMMARY:Día Mundial del agua y bosques
DESCRIPTION:
URL:https://loyola.edu.do/event/dia-mundial-del-agua-y-bosques/
END:VEVENT
BEGIN:VEVENT
DTSTART;VALUE=DATE:20210319
DTEND;VALUE=DATE:20210320
DTSTAMP:20260420T003707
CREATED:20210310T182115Z
LAST-MODIFIED:20210310T182115Z
UID:2822-1616112000-1616198399@loyola.edu.do
SUMMARY:P3 Nivel Inicial: 19 de marzo al 8 de julio de 2021
DESCRIPTION:
URL:https://loyola.edu.do/event/p3-nivel-inicial-19-de-marzo-al-8-de-julio-de-2021/
END:VEVENT
BEGIN:VEVENT
DTSTART;VALUE=DATE:20210319
DTEND;VALUE=DATE:20210320
DTSTAMP:20260420T003707
CREATED:20210310T182009Z
LAST-MODIFIED:20210310T182025Z
UID:2820-1616112000-1616198399@loyola.edu.do
SUMMARY:Conmemoración Batalla 19 de Marzo
DESCRIPTION:
URL:https://loyola.edu.do/event/conmemoracion-batalla-19-de-marzo/
END:VEVENT
BEGIN:VEVENT
DTSTART;VALUE=DATE:20210319
DTEND;VALUE=DATE:20210320
DTSTAMP:20260420T003707
CREATED:20210310T181928Z
LAST-MODIFIED:20210310T181936Z
UID:2818-1616112000-1616198399@loyola.edu.do
SUMMARY:Solemnidad San José\, Patrono de la Compañía de Jesús
DESCRIPTION:
URL:https://loyola.edu.do/event/solemnidad-san-jose-patrono-de-la-compania-de-jesus/
END:VEVENT
BEGIN:VEVENT
DTSTART;VALUE=DATE:20210318
DTEND;VALUE=DATE:20210320
DTSTAMP:20260420T003707
CREATED:20210310T182201Z
LAST-MODIFIED:20210318T160550Z
UID:2824-1616025600-1616198399@loyola.edu.do
SUMMARY:Segunda entrega de informes de Aprendizaje de Nivel Inicial
DESCRIPTION:
URL:https://loyola.edu.do/event/segunda-entrega-de-informes-de-aprendizaje-de-nivel-inicial-2/
END:VEVENT
BEGIN:VEVENT
DTSTART;VALUE=DATE:20210318
DTEND;VALUE=DATE:20210319
DTSTAMP:20260420T003707
CREATED:20210310T181731Z
LAST-MODIFIED:20210310T181732Z
UID:2816-1616025600-1616111999@loyola.edu.do
SUMMARY:Segunda entrega de informes de Aprendizaje de Nivel Inicial
DESCRIPTION:
URL:https://loyola.edu.do/event/segunda-entrega-de-informes-de-aprendizaje-de-nivel-inicial/
END:VEVENT
BEGIN:VEVENT
DTSTART;VALUE=DATE:20210312
DTEND;VALUE=DATE:20210313
DTSTAMP:20260420T003707
CREATED:20210310T181612Z
LAST-MODIFIED:20210310T181612Z
UID:2814-1615507200-1615593599@loyola.edu.do
SUMMARY:Viernes solidarios. Voluntariado DasMás
DESCRIPTION:
URL:https://loyola.edu.do/event/viernes-solidarios-voluntariado-dasmas/
END:VEVENT
BEGIN:VEVENT
DTSTART;VALUE=DATE:20210310
DTEND;VALUE=DATE:20210312
DTSTAMP:20260420T003707
CREATED:20210310T181248Z
LAST-MODIFIED:20210310T181522Z
UID:2811-1615334400-1615507199@loyola.edu.do
SUMMARY:Taller de Identidad Ignaciana
DESCRIPTION:
URL:https://loyola.edu.do/event/taller-de-identidad-ignaciana/
END:VEVENT
BEGIN:VEVENT
DTSTART;VALUE=DATE:20210308
DTEND;VALUE=DATE:20210309
DTSTAMP:20260420T003707
CREATED:20210310T172947Z
LAST-MODIFIED:20210310T172947Z
UID:2807-1615161600-1615247999@loyola.edu.do
SUMMARY:Día Internacional de la Mujer
DESCRIPTION:
URL:https://loyola.edu.do/event/dia-internacional-de-la-mujer/
END:VEVENT
BEGIN:VEVENT
DTSTART;VALUE=DATE:20210302
DTEND;VALUE=DATE:20210326
DTSTAMP:20260420T003707
CREATED:20210311T165532Z
LAST-MODIFIED:20210311T165532Z
UID:2864-1614643200-1616716799@loyola.edu.do
SUMMARY:Matriculación Año Escolar 2021-2022
DESCRIPTION:
URL:https://loyola.edu.do/event/matriculacion-ano-escolar-2021-2022/
END:VEVENT
BEGIN:VEVENT
DTSTART;TZID=UTC:20210301T000000
DTEND;TZID=UTC:20210305T000000
DTSTAMP:20260420T003707
CREATED:20210310T172832Z
LAST-MODIFIED:20210310T172900Z
UID:2805-1614556800-1614902400@loyola.edu.do
SUMMARY:Home Room de Cuaresma: Los Mejores Amigos del Mundo
DESCRIPTION:
URL:https://loyola.edu.do/event/home-room-de-cuaresma-los-mejores-amigos-del-mundo/
END:VEVENT
BEGIN:VEVENT
DTSTART;VALUE=DATE:20210301
DTEND;VALUE=DATE:20210302
DTSTAMP:20260420T003707
CREATED:20210311T164607Z
LAST-MODIFIED:20210311T165117Z
UID:2859-1614556800-1614643199@loyola.edu.do
SUMMARY:Inicio de Matriculación Año Escolar 2021-2022
DESCRIPTION:
URL:https://loyola.edu.do/event/inicio-de-matriculacion-ano-escolar-2021-2022/
END:VEVENT
BEGIN:VEVENT
DTSTART;VALUE=DATE:20210301
DTEND;VALUE=DATE:20210302
DTSTAMP:20260420T003707
CREATED:20210310T180949Z
LAST-MODIFIED:20210310T181822Z
UID:2809-1614556800-1614643199@loyola.edu.do
SUMMARY:Segunda Campaña de Acción Social
DESCRIPTION:
URL:https://loyola.edu.do/event/segunda-campana-de-accion-social-hasta-el-viernes-14-de-mayo-2021/
END:VEVENT
BEGIN:VEVENT
DTSTART;TZID=UTC:20210220T080000
DTEND;TZID=UTC:20210220T170000
DTSTAMP:20260420T003707
CREATED:20210311T164303Z
LAST-MODIFIED:20210311T164303Z
UID:2853-1613808000-1613840400@loyola.edu.do
SUMMARY:Admisiones (prueba académica)
DESCRIPTION:
URL:https://loyola.edu.do/event/admisiones-prueba-academica/
END:VEVENT
BEGIN:VEVENT
DTSTART;VALUE=DATE:20210218
DTEND;VALUE=DATE:20210219
DTSTAMP:20260420T003707
CREATED:20210311T164354Z
LAST-MODIFIED:20210311T164354Z
UID:2855-1613606400-1613692799@loyola.edu.do
SUMMARY:Día del Estudiante (Entrega del Magis 2019-2020) Virtual
DESCRIPTION:
URL:https://loyola.edu.do/event/dia-del-estudiante-entrega-del-magis-2019-2020-virtual/
END:VEVENT
BEGIN:VEVENT
DTSTART;VALUE=DATE:20210217
DTEND;VALUE=DATE:20210218
DTSTAMP:20260420T003707
CREATED:20210311T164452Z
LAST-MODIFIED:20210311T164452Z
UID:2857-1613520000-1613606399@loyola.edu.do
SUMMARY:Miércoles de Cenizas. (Pastoral)  Inicio de la Cuaresma
DESCRIPTION:
URL:https://loyola.edu.do/event/miercoles-de-cenizas-pastoral-inicio-de-la-cuaresma/
END:VEVENT
BEGIN:VEVENT
DTSTART;TZID=UTC:20210126T080000
DTEND;TZID=UTC:20210126T170000
DTSTAMP:20260420T003707
CREATED:20210111T175233Z
LAST-MODIFIED:20210111T175233Z
UID:2494-1611648000-1611680400@loyola.edu.do
SUMMARY:Día del natalicio de Juan Pablo Duarte (Festivo se pasa a lunes 25)
DESCRIPTION:
URL:https://loyola.edu.do/event/dia-del-natalicio-de-juan-pablo-duarte-festivo-se-pasa-a-lunes-25/
END:VEVENT
END:VCALENDAR