BEGIN:VCALENDAR
VERSION:2.0
PRODID:-//Colegio Loyola | Santo Domingo - ECPv6.15.19//NONSGML v1.0//EN
CALSCALE:GREGORIAN
METHOD:PUBLISH
X-WR-CALNAME:Colegio Loyola | Santo Domingo
X-ORIGINAL-URL:https://loyola.edu.do
X-WR-CALDESC:Eventos para Colegio Loyola | Santo Domingo
REFRESH-INTERVAL;VALUE=DURATION:PT1H
X-Robots-Tag:noindex
X-PUBLISHED-TTL:PT1H
BEGIN:VTIMEZONE
TZID:UTC
BEGIN:STANDARD
TZOFFSETFROM:+0000
TZOFFSETTO:+0000
TZNAME:UTC
DTSTART:20190101T000000
END:STANDARD
END:VTIMEZONE
BEGIN:VEVENT
DTSTART;VALUE=DATE:20210126
DTEND;VALUE=DATE:20210127
DTSTAMP:20260422T051125
CREATED:20210111T175430Z
LAST-MODIFIED:20210111T175430Z
UID:2496-1611619200-1611705599@loyola.edu.do
SUMMARY:Día Mundial de la Educación Ambiental
DESCRIPTION:
URL:https://loyola.edu.do/event/dia-mundial-de-la-educacion-ambiental/
END:VEVENT
BEGIN:VEVENT
DTSTART;TZID=UTC:20210125T080000
DTEND;TZID=UTC:20210125T170000
DTSTAMP:20260422T051125
CREATED:20210111T175118Z
LAST-MODIFIED:20210111T175118Z
UID:2491-1611561600-1611594000@loyola.edu.do
SUMMARY:NO Laborable. Conmemoración Día Natalicio de Juan Pablo Duarte
DESCRIPTION:
URL:https://loyola.edu.do/event/no-laborable-conmemoracion-dia-natalicio-de-juan-pablo-duarte/
END:VEVENT
BEGIN:VEVENT
DTSTART;VALUE=DATE:20210121
DTEND;VALUE=DATE:20210122
DTSTAMP:20260422T051125
CREATED:20210111T174952Z
LAST-MODIFIED:20210111T174952Z
UID:2489-1611187200-1611273599@loyola.edu.do
SUMMARY:No Laborable. Día de La Virgen de la Altagracia
DESCRIPTION:
URL:https://loyola.edu.do/event/no-laborable-dia-de-la-virgen-de-la-altagracia/
END:VEVENT
BEGIN:VEVENT
DTSTART;VALUE=DATE:20210120
DTEND;VALUE=DATE:20210121
DTSTAMP:20260422T051125
CREATED:20210111T174652Z
LAST-MODIFIED:20210111T174714Z
UID:2487-1611100800-1611187199@loyola.edu.do
SUMMARY:Eucaristía Conmemoración Día de la Virgen de la Altagracia
DESCRIPTION:
URL:https://loyola.edu.do/event/eucaristia-conmemoracion-dia-de-la-virgen-de-la-altagracia/
END:VEVENT
BEGIN:VEVENT
DTSTART;VALUE=DATE:20210108
DTEND;VALUE=DATE:20210109
DTSTAMP:20260422T051125
CREATED:20210111T174528Z
LAST-MODIFIED:20210111T175157Z
UID:2485-1610064000-1610150399@loyola.edu.do
SUMMARY:Inicio de Docencia: Reintegración de los Estudiantes Clases Virtuales
DESCRIPTION:
URL:https://loyola.edu.do/event/inicio-de-docencia-reintegracion-de-los-estudiantes/
END:VEVENT
BEGIN:VEVENT
DTSTART;VALUE=DATE:20210106
DTEND;VALUE=DATE:20210107
DTSTAMP:20260422T051125
CREATED:20210111T174426Z
LAST-MODIFIED:20210111T174437Z
UID:2482-1609891200-1609977599@loyola.edu.do
SUMMARY:Día de la Epifanía del Señor
DESCRIPTION:
URL:https://loyola.edu.do/event/dia-de-la-epifania-del-senor-2/
END:VEVENT
BEGIN:VEVENT
DTSTART;VALUE=DATE:20210103
DTEND;VALUE=DATE:20210104
DTSTAMP:20260422T051125
CREATED:20210111T174258Z
LAST-MODIFIED:20210111T174258Z
UID:2480-1609632000-1609718399@loyola.edu.do
SUMMARY:Solemnidad Santísimo Nombre de Jesús
DESCRIPTION:
URL:https://loyola.edu.do/event/solemnidad-santisimo-nombre-de-jesus/
END:VEVENT
BEGIN:VEVENT
DTSTART;VALUE=DATE:20210101
DTEND;VALUE=DATE:20210102
DTSTAMP:20260422T051125
CREATED:20210111T174213Z
LAST-MODIFIED:20210111T174213Z
UID:2478-1609459200-1609545599@loyola.edu.do
SUMMARY:Año Nuevo
DESCRIPTION:
URL:https://loyola.edu.do/event/ano-nuevo/
END:VEVENT
BEGIN:VEVENT
DTSTART;VALUE=DATE:20201220
DTEND;VALUE=DATE:20201221
DTSTAMP:20260422T051125
CREATED:20200930T223432Z
LAST-MODIFIED:20200930T223432Z
UID:2406-1608422400-1608508799@loyola.edu.do
SUMMARY:4to Domingo de Adviento
DESCRIPTION:
URL:https://loyola.edu.do/event/4to-domingo-de-adviento/
END:VEVENT
BEGIN:VEVENT
DTSTART;VALUE=DATE:20201213
DTEND;VALUE=DATE:20201214
DTSTAMP:20260422T051125
CREATED:20200930T223138Z
LAST-MODIFIED:20200930T223220Z
UID:2401-1607817600-1607903999@loyola.edu.do
SUMMARY:3er Domingo de Adviento
DESCRIPTION:
URL:https://loyola.edu.do/event/2do-domingo-de-adviento/
END:VEVENT
BEGIN:VEVENT
DTSTART;VALUE=DATE:20201207
DTEND;VALUE=DATE:20201212
DTSTAMP:20260422T051125
CREATED:20200930T223624Z
LAST-MODIFIED:20200930T223641Z
UID:2408-1607299200-1607731199@loyola.edu.do
SUMMARY:Home Room de Adviento
DESCRIPTION:
URL:https://loyola.edu.do/event/home-room-de-adviento/
END:VEVENT
BEGIN:VEVENT
DTSTART;VALUE=DATE:20201206
DTEND;VALUE=DATE:20201207
DTSTAMP:20260422T051125
CREATED:20200930T223309Z
LAST-MODIFIED:20200930T223501Z
UID:2404-1607212800-1607299199@loyola.edu.do
SUMMARY:2do Domingo de Adviento
DESCRIPTION:
URL:https://loyola.edu.do/event/2do-domingo-de-adviento-2/
END:VEVENT
BEGIN:VEVENT
DTSTART;VALUE=DATE:20201205
DTEND;VALUE=DATE:20201206
DTSTAMP:20260422T051125
CREATED:20200930T223106Z
LAST-MODIFIED:20200930T223106Z
UID:2399-1607126400-1607212799@loyola.edu.do
SUMMARY:Dia del Descubrimiento de La Hispaniola
DESCRIPTION:
URL:https://loyola.edu.do/event/dia-del-descubrimiento-de-la-hispaniola/
END:VEVENT
BEGIN:VEVENT
DTSTART;VALUE=DATE:20201203
DTEND;VALUE=DATE:20201204
DTSTAMP:20260422T051125
CREATED:20200930T222944Z
LAST-MODIFIED:20200930T222944Z
UID:2397-1606953600-1607039999@loyola.edu.do
SUMMARY:Fiesta de San Francisco Javier SJ
DESCRIPTION:
URL:https://loyola.edu.do/event/fiesta-de-san-francisco-javier-sj/
END:VEVENT
BEGIN:VEVENT
DTSTART;VALUE=DATE:20201201
DTEND;VALUE=DATE:20201202
DTSTAMP:20260422T051125
CREATED:20200930T214341Z
LAST-MODIFIED:20200930T214341Z
UID:2393-1606780800-1606867199@loyola.edu.do
SUMMARY:Paraliturgia Corona de Adviento
DESCRIPTION:
URL:https://loyola.edu.do/event/paraliturgia-corona-de-adviento/
END:VEVENT
BEGIN:VEVENT
DTSTART;VALUE=DATE:20201130
DTEND;VALUE=DATE:20201201
DTSTAMP:20260422T051125
CREATED:20201113T233636Z
LAST-MODIFIED:20201113T233636Z
UID:2464-1606694400-1606780799@loyola.edu.do
SUMMARY:Formación Plataforma Moodle para Padres Loyola 7:00 p.m.
DESCRIPTION:
URL:https://loyola.edu.do/event/formacion-plataforma-moodle-para-padres-loyola-700-p-m-3/
END:VEVENT
BEGIN:VEVENT
DTSTART;VALUE=DATE:20201129
DTEND;VALUE=DATE:20201130
DTSTAMP:20260422T051125
CREATED:20200930T213945Z
LAST-MODIFIED:20200930T214021Z
UID:2391-1606608000-1606694399@loyola.edu.do
SUMMARY:1er Domingo de Adviento
DESCRIPTION:
URL:https://loyola.edu.do/event/1er-domingo-de-adviento/
END:VEVENT
BEGIN:VEVENT
DTSTART;VALUE=DATE:20201125
DTEND;VALUE=DATE:20201126
DTSTAMP:20260422T051125
CREATED:20200930T213841Z
LAST-MODIFIED:20200930T213841Z
UID:2389-1606262400-1606348799@loyola.edu.do
SUMMARY:Dia de la Eliminación de la Violencia contra la Mujer
DESCRIPTION:
URL:https://loyola.edu.do/event/dia-de-la-eliminacion-de-la-violencia-contra-la-mujer/
END:VEVENT
BEGIN:VEVENT
DTSTART;VALUE=DATE:20201123
DTEND;VALUE=DATE:20201124
DTSTAMP:20260422T051125
CREATED:20201113T233613Z
LAST-MODIFIED:20201113T233613Z
UID:2462-1606089600-1606175999@loyola.edu.do
SUMMARY:Formación Plataforma Moodle para Padres Loyola 7:00 p.m.
DESCRIPTION:
URL:https://loyola.edu.do/event/formacion-plataforma-moodle-para-padres-loyola-700-p-m-2/
END:VEVENT
BEGIN:VEVENT
DTSTART;VALUE=DATE:20201116
DTEND;VALUE=DATE:20201117
DTSTAMP:20260422T051125
CREATED:20201113T232939Z
LAST-MODIFIED:20201113T232939Z
UID:2458-1605484800-1605571199@loyola.edu.do
SUMMARY:Formación Plataforma Moodle para Padres Loyola 7:00 p.m.
DESCRIPTION:
URL:https://loyola.edu.do/event/formacion-plataforma-moodle-para-padres-loyola-700-p-m/
END:VEVENT
BEGIN:VEVENT
DTSTART;VALUE=DATE:20201115
DTEND;VALUE=DATE:20201128
DTSTAMP:20260422T051125
CREATED:20200930T213704Z
LAST-MODIFIED:20201113T211152Z
UID:2387-1605398400-1606521599@loyola.edu.do
SUMMARY:SEMANA IGNACIANA
DESCRIPTION:
URL:https://loyola.edu.do/event/semana-ignaciana-2/
END:VEVENT
BEGIN:VEVENT
DTSTART;VALUE=DATE:20201109
DTEND;VALUE=DATE:20201110
DTSTAMP:20260422T051125
CREATED:20200930T213522Z
LAST-MODIFIED:20200930T213522Z
UID:2385-1604880000-1604966399@loyola.edu.do
SUMMARY:NO LABORABLE Conmemoración Día de la Constitución
DESCRIPTION:
URL:https://loyola.edu.do/event/no-laborable-conmemoracion-dia-de-la-constitucion/
END:VEVENT
BEGIN:VEVENT
DTSTART;VALUE=DATE:20201106
DTEND;VALUE=DATE:20201107
DTSTAMP:20260422T051125
CREATED:20200930T213103Z
LAST-MODIFIED:20200930T213103Z
UID:2383-1604620800-1604707199@loyola.edu.do
SUMMARY:Dia de la Constitución (se mueve para el lunes 9 de Noviembre)
DESCRIPTION:
URL:https://loyola.edu.do/event/dia-de-la-constitucion-se-mueve-para-el-lunes-9-de-noviembre/
END:VEVENT
BEGIN:VEVENT
DTSTART;VALUE=DATE:20201105
DTEND;VALUE=DATE:20201106
DTSTAMP:20260422T051125
CREATED:20200930T212018Z
LAST-MODIFIED:20200930T212231Z
UID:2379-1604534400-1604620799@loyola.edu.do
SUMMARY:Fiesta de Todos los Santos de La Compañía de Jesús
DESCRIPTION:
URL:https://loyola.edu.do/event/fiesta-de-todos-los-santos-de-la-compania-de-jesus/
END:VEVENT
BEGIN:VEVENT
DTSTART;VALUE=DATE:20201102
DTEND;VALUE=DATE:20201103
DTSTAMP:20260422T051125
CREATED:20200930T205900Z
LAST-MODIFIED:20200930T205900Z
UID:2377-1604275200-1604361599@loyola.edu.do
SUMMARY:Dia de los Fieles Difuntos
DESCRIPTION:
URL:https://loyola.edu.do/event/dia-de-los-fieles-difuntos/
END:VEVENT
BEGIN:VEVENT
DTSTART;VALUE=DATE:20201101
DTEND;VALUE=DATE:20201102
DTSTAMP:20260422T051125
CREATED:20200930T205821Z
LAST-MODIFIED:20200930T205821Z
UID:2375-1604188800-1604275199@loyola.edu.do
SUMMARY:Dia de todos los Santos
DESCRIPTION:
URL:https://loyola.edu.do/event/dia-de-todos-los-santos/
END:VEVENT
BEGIN:VEVENT
DTSTART;VALUE=DATE:20201029
DTEND;VALUE=DATE:20201030
DTSTAMP:20260422T051125
CREATED:20200930T212846Z
LAST-MODIFIED:20200930T212846Z
UID:2381-1603929600-1604015999@loyola.edu.do
SUMMARY:Inauguración del Archivo Histórico del Colegio Loyola Acto sencillo\, Cobertura para redes\, web .
DESCRIPTION:
URL:https://loyola.edu.do/event/inauguracion-del-archivo-historico-del-colegio-loyola-acto-sencillo-cobertura-para-redes-web/
END:VEVENT
BEGIN:VEVENT
DTSTART;VALUE=DATE:20201026
DTEND;VALUE=DATE:20201031
DTSTAMP:20260422T051125
CREATED:20200930T203722Z
LAST-MODIFIED:20201007T192800Z
UID:2367-1603670400-1604102399@loyola.edu.do
SUMMARY:Home Room - Cultura del Cuidado
DESCRIPTION:
URL:https://loyola.edu.do/event/home-room/
END:VEVENT
BEGIN:VEVENT
DTSTART;VALUE=DATE:20201021
DTEND;VALUE=DATE:20201022
DTSTAMP:20260422T051125
CREATED:20200930T222843Z
LAST-MODIFIED:20201015T162228Z
UID:2395-1603238400-1603324799@loyola.edu.do
SUMMARY:Convivencia de Padres Nuevo Ingreso 7:00 p.m. Via Zoom
DESCRIPTION:7:00 p.m. Via Zoom
URL:https://loyola.edu.do/event/convivencia-de-padres-nuevo-ingreso/
END:VEVENT
BEGIN:VEVENT
DTSTART;VALUE=DATE:20201014
DTEND;VALUE=DATE:20201015
DTSTAMP:20260422T051125
CREATED:20201007T192612Z
LAST-MODIFIED:20201007T192612Z
UID:2423-1602633600-1602719999@loyola.edu.do
SUMMARY:Lanzamiento de las Campañas de Acción social Dasmás
DESCRIPTION:
URL:https://loyola.edu.do/event/lanzamiento-de-las-campanas-de-accion-social-dasmas/
END:VEVENT
END:VCALENDAR