BEGIN:VCALENDAR
VERSION:2.0
PRODID:-//Colegio Loyola | Santo Domingo - ECPv6.15.19//NONSGML v1.0//EN
CALSCALE:GREGORIAN
METHOD:PUBLISH
X-WR-CALNAME:Colegio Loyola | Santo Domingo
X-ORIGINAL-URL:https://loyola.edu.do
X-WR-CALDESC:Eventos para Colegio Loyola | Santo Domingo
REFRESH-INTERVAL;VALUE=DURATION:PT1H
X-Robots-Tag:noindex
X-PUBLISHED-TTL:PT1H
BEGIN:VTIMEZONE
TZID:UTC
BEGIN:STANDARD
TZOFFSETFROM:+0000
TZOFFSETTO:+0000
TZNAME:UTC
DTSTART:20180101T000000
END:STANDARD
END:VTIMEZONE
BEGIN:VEVENT
DTSTART;VALUE=DATE:20201003
DTEND;VALUE=DATE:20201004
DTSTAMP:20260422T113517
CREATED:20200930T202938Z
LAST-MODIFIED:20200930T202938Z
UID:2363-1601683200-1601769599@loyola.edu.do
SUMMARY:Memoria de San Francisco De Borja\, SJ.
DESCRIPTION:
URL:https://loyola.edu.do/event/memoria-de-san-francisco-de-borja-sj/
END:VEVENT
BEGIN:VEVENT
DTSTART;VALUE=DATE:20200930
DTEND;VALUE=DATE:20201001
DTSTAMP:20260422T113517
CREATED:20200930T205714Z
LAST-MODIFIED:20200930T205714Z
UID:2373-1601424000-1601510399@loyola.edu.do
SUMMARY:Inicio de Electivas de Primaria
DESCRIPTION:
URL:https://loyola.edu.do/event/inicio-de-electivas-de-primaria/
END:VEVENT
BEGIN:VEVENT
DTSTART;VALUE=DATE:20200929
DTEND;VALUE=DATE:20200930
DTSTAMP:20260422T113517
CREATED:20200930T205649Z
LAST-MODIFIED:20200930T205649Z
UID:2371-1601337600-1601423999@loyola.edu.do
SUMMARY:Inicio de Electivas de Secundaria
DESCRIPTION:
URL:https://loyola.edu.do/event/inicio-de-electivas-de-secundaria/
END:VEVENT
BEGIN:VEVENT
DTSTART;TZID=UTC:20200824T073000
DTEND;TZID=UTC:20200824T130000
DTSTAMP:20260422T113517
CREATED:20200821T032725Z
LAST-MODIFIED:20200821T165506Z
UID:2307-1598254200-1598274000@loyola.edu.do
SUMMARY:Inicio de clases virtuales
DESCRIPTION:Pruebas de plataforma.
URL:https://loyola.edu.do/event/inicio-de-clases-virtuales/
END:VEVENT
BEGIN:VEVENT
DTSTART;VALUE=DATE:20200407
DTEND;VALUE=DATE:20200408
DTSTAMP:20260422T113517
CREATED:20200405T230045Z
LAST-MODIFIED:20200405T230045Z
UID:2168-1586217600-1586303999@loyola.edu.do
SUMMARY:Martes Santo
DESCRIPTION:No tenemos Clases Online\, es Semana Santa. Puede realizar las Actividades propuestas en la plataforma Moodle o Edmodo en la sección Espiritualidad.
URL:https://loyola.edu.do/event/martes-santo/
END:VEVENT
BEGIN:VEVENT
DTSTART;VALUE=DATE:20200406
DTEND;VALUE=DATE:20200407
DTSTAMP:20260422T113517
CREATED:20200405T225905Z
LAST-MODIFIED:20200405T225905Z
UID:2166-1586131200-1586217599@loyola.edu.do
SUMMARY:Lunes Santo
DESCRIPTION:No tenemos Clases Online\, es Semana Santa. Puede realizar las Actividades propuestas en la plataforma Moodle o Edmodo en la sección Espiritualidad.
URL:https://loyola.edu.do/event/lunes-santo/
END:VEVENT
BEGIN:VEVENT
DTSTART;VALUE=DATE:20200405
DTEND;VALUE=DATE:20200406
DTSTAMP:20260422T113517
CREATED:20200405T225450Z
LAST-MODIFIED:20200405T225450Z
UID:2163-1586044800-1586131199@loyola.edu.do
SUMMARY:Domingo de Ramos
DESCRIPTION:Transmisión de misa por canal de You Tube de nuestra Parroquia Santísima Trinidad.
URL:https://loyola.edu.do/event/domingo-de-ramos-2/
END:VEVENT
BEGIN:VEVENT
DTSTART;VALUE=DATE:20190825
DTEND;VALUE=DATE:20190826
DTSTAMP:20260422T113517
CREATED:20180905T194845Z
LAST-MODIFIED:20180905T194845Z
UID:1583-1566691200-1566777599@loyola.edu.do
SUMMARY:Fallecimiento P. Benito Blanco\, SJ.
DESCRIPTION:
URL:https://loyola.edu.do/event/fallecimiento-p-benito-blanco-sj/
END:VEVENT
BEGIN:VEVENT
DTSTART;VALUE=DATE:20190823
DTEND;VALUE=DATE:20190824
DTSTAMP:20260422T113517
CREATED:20180905T194754Z
LAST-MODIFIED:20180905T194754Z
UID:1581-1566518400-1566604799@loyola.edu.do
SUMMARY:Inicio de Año Escolar (Nivel Inicial) Recibimiento en Acto Cívico
DESCRIPTION:
URL:https://loyola.edu.do/event/inicio-de-ano-escolar-nivel-inicial-recibimiento-en-acto-civico/
END:VEVENT
BEGIN:VEVENT
DTSTART;VALUE=DATE:20190820
DTEND;VALUE=DATE:20190821
DTSTAMP:20260422T113517
CREATED:20180905T194708Z
LAST-MODIFIED:20180905T194708Z
UID:1579-1566259200-1566345599@loyola.edu.do
SUMMARY:Inicio de Año Escolar Nivel Primario y Nivel Secundario
DESCRIPTION:
URL:https://loyola.edu.do/event/inicio-de-ano-escolar-nivel-primario-y-nivel-secundario-2/
END:VEVENT
BEGIN:VEVENT
DTSTART;VALUE=DATE:20190816
DTEND;VALUE=DATE:20190817
DTSTAMP:20260422T113517
CREATED:20180905T194614Z
LAST-MODIFIED:20180905T194614Z
UID:1577-1565913600-1565999999@loyola.edu.do
SUMMARY:Día de la Restauración - No laborable
DESCRIPTION:
URL:https://loyola.edu.do/event/dia-de-la-restauracion-no-laborable-2/
END:VEVENT
BEGIN:VEVENT
DTSTART;VALUE=DATE:20190814
DTEND;VALUE=DATE:20190815
DTSTAMP:20260422T113517
CREATED:20180905T194541Z
LAST-MODIFIED:20180905T194541Z
UID:1575-1565740800-1565827199@loyola.edu.do
SUMMARY:Revisión de Calificaciones Extraordinarias Nivel Secundario
DESCRIPTION:
URL:https://loyola.edu.do/event/revision-de-calificaciones-extraordinarias-nivel-secundario/
END:VEVENT
BEGIN:VEVENT
DTSTART;VALUE=DATE:20190813
DTEND;VALUE=DATE:20190814
DTSTAMP:20260422T113517
CREATED:20180905T194314Z
LAST-MODIFIED:20180905T194314Z
UID:1573-1565654400-1565740799@loyola.edu.do
SUMMARY:Entrega de Calificaciones de Extraordinarios Nivel Secundario
DESCRIPTION:
URL:https://loyola.edu.do/event/entrega-de-calificaciones-de-extraordinarios-nivel-secundario/
END:VEVENT
BEGIN:VEVENT
DTSTART;VALUE=DATE:20190805
DTEND;VALUE=DATE:20190810
DTSTAMP:20260422T113517
CREATED:20180905T194228Z
LAST-MODIFIED:20180905T194228Z
UID:1571-1564963200-1565395199@loyola.edu.do
SUMMARY:Exámenes extraordinarios Nivel Secundario
DESCRIPTION:
URL:https://loyola.edu.do/event/examenes-extraordinarios-nivel-secundario/
END:VEVENT
BEGIN:VEVENT
DTSTART;VALUE=DATE:20190731
DTEND;VALUE=DATE:20190801
DTSTAMP:20260422T113517
CREATED:20180905T194008Z
LAST-MODIFIED:20180905T194008Z
UID:1569-1564531200-1564617599@loyola.edu.do
SUMMARY:Día de San Ignacio de Loyola
DESCRIPTION:
URL:https://loyola.edu.do/event/dia-de-san-ignacio-de-loyola/
END:VEVENT
BEGIN:VEVENT
DTSTART;VALUE=DATE:20190728
DTEND;VALUE=DATE:20190729
DTSTAMP:20260422T113517
CREATED:20180905T193935Z
LAST-MODIFIED:20180905T193935Z
UID:1567-1564272000-1564358399@loyola.edu.do
SUMMARY:Día de los Padres
DESCRIPTION:
URL:https://loyola.edu.do/event/dia-de-los-padres/
END:VEVENT
BEGIN:VEVENT
DTSTART;VALUE=DATE:20190701
DTEND;VALUE=DATE:20190704
DTSTAMP:20260422T113517
CREATED:20180905T193910Z
LAST-MODIFIED:20180905T193910Z
UID:1565-1561939200-1562198399@loyola.edu.do
SUMMARY:Resort - Personal docente y administrativo
DESCRIPTION:
URL:https://loyola.edu.do/event/resort-personal-docente-y-administrativo/
END:VEVENT
BEGIN:VEVENT
DTSTART;VALUE=DATE:20190630
DTEND;VALUE=DATE:20190701
DTSTAMP:20260422T113517
CREATED:20180904T235825Z
LAST-MODIFIED:20180904T235825Z
UID:1538-1561852800-1561939199@loyola.edu.do
SUMMARY:Día del Maestro
DESCRIPTION:
URL:https://loyola.edu.do/event/dia-del-maestro/
END:VEVENT
BEGIN:VEVENT
DTSTART;VALUE=DATE:20190628
DTEND;VALUE=DATE:20190629
DTSTAMP:20260422T113517
CREATED:20180905T193759Z
LAST-MODIFIED:20180905T193759Z
UID:1563-1561680000-1561766399@loyola.edu.do
SUMMARY:Revisión de Calificaciones Completivas de Nivel Secundario
DESCRIPTION:
URL:https://loyola.edu.do/event/revision-de-calificaciones-completivas-de-nivel-secundario/
END:VEVENT
BEGIN:VEVENT
DTSTART;VALUE=DATE:20190627
DTEND;VALUE=DATE:20190628
DTSTAMP:20260422T113517
CREATED:20180905T001144Z
LAST-MODIFIED:20180905T193550Z
UID:1554-1561593600-1561679999@loyola.edu.do
SUMMARY:Entrega de Calificaciones de Pruebas Completivas
DESCRIPTION:
URL:https://loyola.edu.do/event/entrega-de-calificaciones-de-pruebas-completivas/
END:VEVENT
BEGIN:VEVENT
DTSTART;VALUE=DATE:20190625
DTEND;VALUE=DATE:20190629
DTSTAMP:20260422T113517
CREATED:20180905T183000Z
LAST-MODIFIED:20180905T183000Z
UID:1561-1561420800-1561766399@loyola.edu.do
SUMMARY:Pruebas Nacionales 6to. Nivel Secundario
DESCRIPTION:
URL:https://loyola.edu.do/event/pruebas-nacionales-6to-nivel-secundario/
END:VEVENT
BEGIN:VEVENT
DTSTART;VALUE=DATE:20190624
DTEND;VALUE=DATE:20190625
DTSTAMP:20260422T113517
CREATED:20180905T000930Z
LAST-MODIFIED:20180905T001026Z
UID:1550-1561334400-1561420799@loyola.edu.do
SUMMARY:Pruebas Completivas Nivel Secundario
DESCRIPTION:
URL:https://loyola.edu.do/event/pruebas-completivas-nivel-secundario-3/
END:VEVENT
BEGIN:VEVENT
DTSTART;VALUE=DATE:20190621
DTEND;VALUE=DATE:20190622
DTSTAMP:20260422T113517
CREATED:20180904T235901Z
LAST-MODIFIED:20180904T235901Z
UID:1540-1561075200-1561161599@loyola.edu.do
SUMMARY:Pruebas Completivas Nivel Secundario
DESCRIPTION:
URL:https://loyola.edu.do/event/pruebas-completivas-nivel-secundario/
END:VEVENT
BEGIN:VEVENT
DTSTART;VALUE=DATE:20190620
DTEND;VALUE=DATE:20190621
DTSTAMP:20260422T113517
CREATED:20180904T235942Z
LAST-MODIFIED:20180904T235942Z
UID:1542-1560988800-1561075199@loyola.edu.do
SUMMARY:Corpues Christi - Día no laborable
DESCRIPTION:
URL:https://loyola.edu.do/event/corpues-christi-dia-no-laborable/
END:VEVENT
BEGIN:VEVENT
DTSTART;VALUE=DATE:20190618
DTEND;VALUE=DATE:20190620
DTSTAMP:20260422T113517
CREATED:20180905T000526Z
LAST-MODIFIED:20180905T000526Z
UID:1548-1560816000-1560988799@loyola.edu.do
SUMMARY:4ta. entrega de informes de aprendizaje 1ero. Ciclo Nivel Primario
DESCRIPTION:
URL:https://loyola.edu.do/event/4ta-entrega-de-informes-de-aprendizaje-1ero-ciclo-nivel-primario/
END:VEVENT
BEGIN:VEVENT
DTSTART;VALUE=DATE:20190618
DTEND;VALUE=DATE:20190620
DTSTAMP:20260422T113517
CREATED:20180905T000422Z
LAST-MODIFIED:20180905T000422Z
UID:1546-1560816000-1560988799@loyola.edu.do
SUMMARY:Pruebas Completivas Nivel Secundario
DESCRIPTION:
URL:https://loyola.edu.do/event/pruebas-completivas-nivel-secundario-2/
END:VEVENT
BEGIN:VEVENT
DTSTART;VALUE=DATE:20190617
DTEND;VALUE=DATE:20190618
DTSTAMP:20260422T113517
CREATED:20180905T000239Z
LAST-MODIFIED:20180905T000239Z
UID:1544-1560729600-1560815999@loyola.edu.do
SUMMARY:Revisión de Calificaciones de Nivel Secundario
DESCRIPTION:
URL:https://loyola.edu.do/event/revision-de-calificaciones-de-nivel-secundario-7/
END:VEVENT
BEGIN:VEVENT
DTSTART;VALUE=DATE:20190614
DTEND;VALUE=DATE:20190615
DTSTAMP:20260422T113517
CREATED:20180904T235731Z
LAST-MODIFIED:20180904T235731Z
UID:1536-1560470400-1560556799@loyola.edu.do
SUMMARY:4ta. Entrega de Calificaciones Nivel Secundario
DESCRIPTION:
URL:https://loyola.edu.do/event/4ta-entrega-de-calificaciones-nivel-secundario-2/
END:VEVENT
BEGIN:VEVENT
DTSTART;VALUE=DATE:20190612
DTEND;VALUE=DATE:20190614
DTSTAMP:20260422T113517
CREATED:20180904T235624Z
LAST-MODIFIED:20180904T235650Z
UID:1534-1560297600-1560470399@loyola.edu.do
SUMMARY:3ra. Entrega de Informes de Evaluación Nivel Inicial
DESCRIPTION:
URL:https://loyola.edu.do/event/3ra-entrega-de-informes-de-evaluacion-nivel-inicial/
END:VEVENT
BEGIN:VEVENT
DTSTART;VALUE=DATE:20190608
DTEND;VALUE=DATE:20190609
DTSTAMP:20260422T113517
CREATED:20180904T235511Z
LAST-MODIFIED:20180904T235511Z
UID:1532-1559952000-1560038399@loyola.edu.do
SUMMARY:Misa de Envío y Acción de Gracias 6to. de Secundaria
DESCRIPTION:
URL:https://loyola.edu.do/event/misa-de-envio-y-accion-de-gracias-6to-de-secundaria/
END:VEVENT
END:VCALENDAR