BEGIN:VCALENDAR
VERSION:2.0
PRODID:-//Colegio Loyola | Santo Domingo - ECPv6.15.19//NONSGML v1.0//EN
CALSCALE:GREGORIAN
METHOD:PUBLISH
X-ORIGINAL-URL:https://loyola.edu.do
X-WR-CALDESC:Eventos para Colegio Loyola | Santo Domingo
REFRESH-INTERVAL;VALUE=DURATION:PT1H
X-Robots-Tag:noindex
X-PUBLISHED-TTL:PT1H
BEGIN:VTIMEZONE
TZID:UTC
BEGIN:STANDARD
TZOFFSETFROM:+0000
TZOFFSETTO:+0000
TZNAME:UTC
DTSTART:20180101T000000
END:STANDARD
END:VTIMEZONE
BEGIN:VEVENT
DTSTART;VALUE=DATE:20190625
DTEND;VALUE=DATE:20190629
DTSTAMP:20260422T143943
CREATED:20180905T183000Z
LAST-MODIFIED:20180905T183000Z
UID:1561-1561420800-1561766399@loyola.edu.do
SUMMARY:Pruebas Nacionales 6to. Nivel Secundario
DESCRIPTION:
URL:https://loyola.edu.do/event/pruebas-nacionales-6to-nivel-secundario/
END:VEVENT
BEGIN:VEVENT
DTSTART;VALUE=DATE:20190624
DTEND;VALUE=DATE:20190625
DTSTAMP:20260422T143943
CREATED:20180905T000930Z
LAST-MODIFIED:20180905T001026Z
UID:1550-1561334400-1561420799@loyola.edu.do
SUMMARY:Pruebas Completivas Nivel Secundario
DESCRIPTION:
URL:https://loyola.edu.do/event/pruebas-completivas-nivel-secundario-3/
END:VEVENT
BEGIN:VEVENT
DTSTART;VALUE=DATE:20190621
DTEND;VALUE=DATE:20190622
DTSTAMP:20260422T143943
CREATED:20180904T235901Z
LAST-MODIFIED:20180904T235901Z
UID:1540-1561075200-1561161599@loyola.edu.do
SUMMARY:Pruebas Completivas Nivel Secundario
DESCRIPTION:
URL:https://loyola.edu.do/event/pruebas-completivas-nivel-secundario/
END:VEVENT
BEGIN:VEVENT
DTSTART;VALUE=DATE:20190620
DTEND;VALUE=DATE:20190621
DTSTAMP:20260422T143943
CREATED:20180904T235942Z
LAST-MODIFIED:20180904T235942Z
UID:1542-1560988800-1561075199@loyola.edu.do
SUMMARY:Corpues Christi - Día no laborable
DESCRIPTION:
URL:https://loyola.edu.do/event/corpues-christi-dia-no-laborable/
END:VEVENT
BEGIN:VEVENT
DTSTART;VALUE=DATE:20190618
DTEND;VALUE=DATE:20190620
DTSTAMP:20260422T143943
CREATED:20180905T000526Z
LAST-MODIFIED:20180905T000526Z
UID:1548-1560816000-1560988799@loyola.edu.do
SUMMARY:4ta. entrega de informes de aprendizaje 1ero. Ciclo Nivel Primario
DESCRIPTION:
URL:https://loyola.edu.do/event/4ta-entrega-de-informes-de-aprendizaje-1ero-ciclo-nivel-primario/
END:VEVENT
BEGIN:VEVENT
DTSTART;VALUE=DATE:20190618
DTEND;VALUE=DATE:20190620
DTSTAMP:20260422T143943
CREATED:20180905T000422Z
LAST-MODIFIED:20180905T000422Z
UID:1546-1560816000-1560988799@loyola.edu.do
SUMMARY:Pruebas Completivas Nivel Secundario
DESCRIPTION:
URL:https://loyola.edu.do/event/pruebas-completivas-nivel-secundario-2/
END:VEVENT
BEGIN:VEVENT
DTSTART;VALUE=DATE:20190617
DTEND;VALUE=DATE:20190618
DTSTAMP:20260422T143943
CREATED:20180905T000239Z
LAST-MODIFIED:20180905T000239Z
UID:1544-1560729600-1560815999@loyola.edu.do
SUMMARY:Revisión de Calificaciones de Nivel Secundario
DESCRIPTION:
URL:https://loyola.edu.do/event/revision-de-calificaciones-de-nivel-secundario-7/
END:VEVENT
BEGIN:VEVENT
DTSTART;VALUE=DATE:20190614
DTEND;VALUE=DATE:20190615
DTSTAMP:20260422T143943
CREATED:20180904T235731Z
LAST-MODIFIED:20180904T235731Z
UID:1536-1560470400-1560556799@loyola.edu.do
SUMMARY:4ta. Entrega de Calificaciones Nivel Secundario
DESCRIPTION:
URL:https://loyola.edu.do/event/4ta-entrega-de-calificaciones-nivel-secundario-2/
END:VEVENT
BEGIN:VEVENT
DTSTART;VALUE=DATE:20190612
DTEND;VALUE=DATE:20190614
DTSTAMP:20260422T143943
CREATED:20180904T235624Z
LAST-MODIFIED:20180904T235650Z
UID:1534-1560297600-1560470399@loyola.edu.do
SUMMARY:3ra. Entrega de Informes de Evaluación Nivel Inicial
DESCRIPTION:
URL:https://loyola.edu.do/event/3ra-entrega-de-informes-de-evaluacion-nivel-inicial/
END:VEVENT
BEGIN:VEVENT
DTSTART;VALUE=DATE:20190608
DTEND;VALUE=DATE:20190609
DTSTAMP:20260422T143943
CREATED:20180904T235511Z
LAST-MODIFIED:20180904T235511Z
UID:1532-1559952000-1560038399@loyola.edu.do
SUMMARY:Misa de Envío y Acción de Gracias 6to. de Secundaria
DESCRIPTION:
URL:https://loyola.edu.do/event/misa-de-envio-y-accion-de-gracias-6to-de-secundaria/
END:VEVENT
BEGIN:VEVENT
DTSTART;VALUE=DATE:20190607
DTEND;VALUE=DATE:20190608
DTSTAMP:20260422T143943
CREATED:20180904T235426Z
LAST-MODIFIED:20180904T235426Z
UID:1530-1559865600-1559951999@loyola.edu.do
SUMMARY:Compartir de Final de año Nivel Inicial\, Nivel Primario y Nivel Secundario
DESCRIPTION:
URL:https://loyola.edu.do/event/compartir-de-final-de-ano-nivel-inicial-nivel-primario-y-nivel-secundario/
END:VEVENT
BEGIN:VEVENT
DTSTART;VALUE=DATE:20190607
DTEND;VALUE=DATE:20190608
DTSTAMP:20260422T143943
CREATED:20180904T235331Z
LAST-MODIFIED:20180904T235331Z
UID:1528-1559865600-1559951999@loyola.edu.do
SUMMARY:Misa de Fin de Año Escolar y Celebración Día de los Padres
DESCRIPTION:
URL:https://loyola.edu.do/event/misa-de-fin-de-ano-escolar-y-celebracion-dia-de-los-padres/
END:VEVENT
BEGIN:VEVENT
DTSTART;VALUE=DATE:20190606
DTEND;VALUE=DATE:20190607
DTSTAMP:20260422T143943
CREATED:20180904T235218Z
LAST-MODIFIED:20180904T235218Z
UID:1526-1559779200-1559865599@loyola.edu.do
SUMMARY:Adoración al Santísimo
DESCRIPTION:
URL:https://loyola.edu.do/event/adoracion-al-santisimo-35/
END:VEVENT
BEGIN:VEVENT
DTSTART;VALUE=DATE:20190603
DTEND;VALUE=DATE:20190608
DTSTAMP:20260422T143943
CREATED:20180904T234900Z
LAST-MODIFIED:20180904T234900Z
UID:1522-1559520000-1559951999@loyola.edu.do
SUMMARY:10ma. Semana Evaluativa Nivel Secundario
DESCRIPTION:
URL:https://loyola.edu.do/event/10ma-semana-evaluativa-nivel-secundario-2/
END:VEVENT
BEGIN:VEVENT
DTSTART;VALUE=DATE:20190531
DTEND;VALUE=DATE:20190601
DTSTAMP:20260422T143943
CREATED:20180904T233409Z
LAST-MODIFIED:20180904T233409Z
UID:1520-1559260800-1559347199@loyola.edu.do
SUMMARY:Cierre de Co-Curriculares
DESCRIPTION:
URL:https://loyola.edu.do/event/cierre-de-co-curriculares/
END:VEVENT
BEGIN:VEVENT
DTSTART;VALUE=DATE:20190531
DTEND;VALUE=DATE:20190601
DTSTAMP:20260422T143943
CREATED:20180904T233341Z
LAST-MODIFIED:20180904T233341Z
UID:1518-1559260800-1559347199@loyola.edu.do
SUMMARY:10ma. Semana Evaluativa Nivel Secundario
DESCRIPTION:
URL:https://loyola.edu.do/event/10ma-semana-evaluativa-nivel-secundario/
END:VEVENT
BEGIN:VEVENT
DTSTART;VALUE=DATE:20190530
DTEND;VALUE=DATE:20190531
DTSTAMP:20260422T143943
CREATED:20180904T233306Z
LAST-MODIFIED:20180904T233306Z
UID:1516-1559174400-1559260799@loyola.edu.do
SUMMARY:Adoración al Santísimo
DESCRIPTION:
URL:https://loyola.edu.do/event/adoracion-al-santisimo-34/
END:VEVENT
BEGIN:VEVENT
DTSTART;VALUE=DATE:20190529
DTEND;VALUE=DATE:20190530
DTSTAMP:20260422T143943
CREATED:20180904T233240Z
LAST-MODIFIED:20180904T233240Z
UID:1514-1559088000-1559174399@loyola.edu.do
SUMMARY:Escuela de Padres 7\,00 pm.
DESCRIPTION:
URL:https://loyola.edu.do/event/escuela-de-padres-700-pm-5/
END:VEVENT
BEGIN:VEVENT
DTSTART;VALUE=DATE:20190528
DTEND;VALUE=DATE:20190529
DTSTAMP:20260422T143943
CREATED:20180904T233049Z
LAST-MODIFIED:20180904T233049Z
UID:1512-1559001600-1559087999@loyola.edu.do
SUMMARY:XI Festival de Cine Loyola
DESCRIPTION:
URL:https://loyola.edu.do/event/xi-festival-de-cine-loyola/
END:VEVENT
BEGIN:VEVENT
DTSTART;VALUE=DATE:20190526
DTEND;VALUE=DATE:20190527
DTSTAMP:20260422T143943
CREATED:20180904T233020Z
LAST-MODIFIED:20180904T233020Z
UID:1510-1558828800-1558915199@loyola.edu.do
SUMMARY:Día de las Madres
DESCRIPTION:
URL:https://loyola.edu.do/event/dia-de-las-madres/
END:VEVENT
BEGIN:VEVENT
DTSTART;VALUE=DATE:20190524
DTEND;VALUE=DATE:20190525
DTSTAMP:20260422T143943
CREATED:20180904T232928Z
LAST-MODIFIED:20180904T232928Z
UID:1508-1558656000-1558742399@loyola.edu.do
SUMMARY:Celebración del Día de las Madres
DESCRIPTION:
URL:https://loyola.edu.do/event/celebracion-del-dia-de-las-madres/
END:VEVENT
BEGIN:VEVENT
DTSTART;VALUE=DATE:20190523
DTEND;VALUE=DATE:20190524
DTSTAMP:20260422T143943
CREATED:20180904T232847Z
LAST-MODIFIED:20180904T232847Z
UID:1506-1558569600-1558655999@loyola.edu.do
SUMMARY:Adoración al Santísimo
DESCRIPTION:
URL:https://loyola.edu.do/event/adoracion-al-santisimo-33/
END:VEVENT
BEGIN:VEVENT
DTSTART;VALUE=DATE:20190522
DTEND;VALUE=DATE:20190524
DTSTAMP:20260422T143943
CREATED:20180904T232819Z
LAST-MODIFIED:20180904T232819Z
UID:1504-1558483200-1558655999@loyola.edu.do
SUMMARY:Entrega de Calificaciones de 6to. Nivel Secundario al Distrito 15-03
DESCRIPTION:
URL:https://loyola.edu.do/event/entrega-de-calificaciones-de-6to-nivel-secundario-al-distrito-15-03/
END:VEVENT
BEGIN:VEVENT
DTSTART;VALUE=DATE:20190520
DTEND;VALUE=DATE:20190525
DTSTAMP:20260422T143943
CREATED:20180904T232627Z
LAST-MODIFIED:20180904T232627Z
UID:1502-1558310400-1558742399@loyola.edu.do
SUMMARY:Evaluación Diagnóstica de 3ro. Nivel Secundario
DESCRIPTION:
URL:https://loyola.edu.do/event/evaluacion-diagnostica-de-3ro-nivel-secundario/
END:VEVENT
BEGIN:VEVENT
DTSTART;VALUE=DATE:20190520
DTEND;VALUE=DATE:20190525
DTSTAMP:20260422T143943
CREATED:20180904T232411Z
LAST-MODIFIED:20180904T232411Z
UID:1496-1558310400-1558742399@loyola.edu.do
SUMMARY:9na. Semana Evaluativa Nivel Secundario
DESCRIPTION:
URL:https://loyola.edu.do/event/9na-semana-evaluativa-nivel-secundario/
END:VEVENT
BEGIN:VEVENT
DTSTART;VALUE=DATE:20190520
DTEND;VALUE=DATE:20190521
DTSTAMP:20260422T143943
CREATED:20180904T232541Z
LAST-MODIFIED:20180904T232541Z
UID:1500-1558310400-1558396799@loyola.edu.do
SUMMARY:Lanzamiento Promoción 5to. de Nivel Secundario
DESCRIPTION:
URL:https://loyola.edu.do/event/lanzamiento-promocion-5to-de-nivel-secundario/
END:VEVENT
BEGIN:VEVENT
DTSTART;VALUE=DATE:20190520
DTEND;VALUE=DATE:20190521
DTSTAMP:20260422T143943
CREATED:20180904T232448Z
LAST-MODIFIED:20180904T232448Z
UID:1498-1558310400-1558396799@loyola.edu.do
SUMMARY:Revisión de Calificaciones de 6to. de Nivel Secundario
DESCRIPTION:
URL:https://loyola.edu.do/event/revision-de-calificaciones-de-6to-de-nivel-secundario/
END:VEVENT
BEGIN:VEVENT
DTSTART;VALUE=DATE:20190518
DTEND;VALUE=DATE:20190519
DTSTAMP:20260422T143943
CREATED:20180904T213443Z
LAST-MODIFIED:20180904T213443Z
UID:1490-1558137600-1558223999@loyola.edu.do
SUMMARY:Confirmación
DESCRIPTION:
URL:https://loyola.edu.do/event/confirmacion/
END:VEVENT
BEGIN:VEVENT
DTSTART;VALUE=DATE:20190517
DTEND;VALUE=DATE:20190518
DTSTAMP:20260422T143943
CREATED:20180904T213823Z
LAST-MODIFIED:20180904T213823Z
UID:1494-1558051200-1558137599@loyola.edu.do
SUMMARY:Entrega de Calificaciones de Fin de Período 6to. de Nivel Secundario
DESCRIPTION:
URL:https://loyola.edu.do/event/entrega-de-calificaciones-de-fin-de-periodo-6to-de-nivel-secundario/
END:VEVENT
BEGIN:VEVENT
DTSTART;VALUE=DATE:20190516
DTEND;VALUE=DATE:20190517
DTSTAMP:20260422T143943
CREATED:20180904T213717Z
LAST-MODIFIED:20180904T213717Z
UID:1492-1557964800-1558051199@loyola.edu.do
SUMMARY:Entrega de Calificaciones de 2da. Prueba de Asignatura Pendiente
DESCRIPTION:
URL:https://loyola.edu.do/event/entrega-de-calificaciones-de-2da-prueba-de-asignatura-pendiente/
END:VEVENT
END:VCALENDAR