BEGIN:VCALENDAR
VERSION:2.0
PRODID:-//Colegio Loyola | Santo Domingo - ECPv6.15.19//NONSGML v1.0//EN
CALSCALE:GREGORIAN
METHOD:PUBLISH
X-ORIGINAL-URL:https://loyola.edu.do
X-WR-CALDESC:Eventos para Colegio Loyola | Santo Domingo
REFRESH-INTERVAL;VALUE=DURATION:PT1H
X-Robots-Tag:noindex
X-PUBLISHED-TTL:PT1H
BEGIN:VTIMEZONE
TZID:UTC
BEGIN:STANDARD
TZOFFSETFROM:+0000
TZOFFSETTO:+0000
TZNAME:UTC
DTSTART:20180101T000000
END:STANDARD
END:VTIMEZONE
BEGIN:VEVENT
DTSTART;VALUE=DATE:20190503
DTEND;VALUE=DATE:20190504
DTSTAMP:20260422T204236
CREATED:20180904T185433Z
LAST-MODIFIED:20180904T185433Z
UID:1468-1556841600-1556927999@loyola.edu.do
SUMMARY:Revisión de Calificaciones de Nivel Secundario
DESCRIPTION:
URL:https://loyola.edu.do/event/revision-de-calificaciones-de-nivel-secundario-5/
END:VEVENT
BEGIN:VEVENT
DTSTART;VALUE=DATE:20190503
DTEND;VALUE=DATE:20190504
DTSTAMP:20260422T204236
CREATED:20180904T185305Z
LAST-MODIFIED:20180904T185305Z
UID:1466-1556841600-1556927999@loyola.edu.do
SUMMARY:Coronación de la Virgen (Acto Cívico)
DESCRIPTION:
URL:https://loyola.edu.do/event/coronacion-de-la-virgen-acto-civico/
END:VEVENT
BEGIN:VEVENT
DTSTART;VALUE=DATE:20190502
DTEND;VALUE=DATE:20190503
DTSTAMP:20260422T204236
CREATED:20180904T185153Z
LAST-MODIFIED:20180904T185153Z
UID:1464-1556755200-1556841599@loyola.edu.do
SUMMARY:4ta. entrega de calificaciones Nivel Secundario
DESCRIPTION:
URL:https://loyola.edu.do/event/4ta-entrega-de-calificaciones-nivel-secundario/
END:VEVENT
BEGIN:VEVENT
DTSTART;VALUE=DATE:20190501
DTEND;VALUE=DATE:20190502
DTSTAMP:20260422T204236
CREATED:20180904T185101Z
LAST-MODIFIED:20180904T185101Z
UID:1462-1556668800-1556755199@loyola.edu.do
SUMMARY:Día del Trabajo
DESCRIPTION:
URL:https://loyola.edu.do/event/dia-del-trabajo/
END:VEVENT
BEGIN:VEVENT
DTSTART;VALUE=DATE:20190430
DTEND;VALUE=DATE:20190501
DTSTAMP:20260422T204236
CREATED:20180830T213640Z
LAST-MODIFIED:20180830T213640Z
UID:1430-1556582400-1556668799@loyola.edu.do
SUMMARY:8va. Semana Evaluativa Nivel Secundario
DESCRIPTION:
URL:https://loyola.edu.do/event/8va-semana-evaluativa-nivel-secundario/
END:VEVENT
BEGIN:VEVENT
DTSTART;VALUE=DATE:20190430
DTEND;VALUE=DATE:20190501
DTSTAMP:20260422T204236
CREATED:20180830T213226Z
LAST-MODIFIED:20180830T213226Z
UID:1428-1556582400-1556668799@loyola.edu.do
SUMMARY:Ruta Ignaciana 6to. grando Nivel Secundario España
DESCRIPTION:
URL:https://loyola.edu.do/event/ruta-ignaciana-6to-grando-nivel-secundario-espana/
END:VEVENT
BEGIN:VEVENT
DTSTART;VALUE=DATE:20190429
DTEND;VALUE=DATE:20190430
DTSTAMP:20260422T204236
CREATED:20180830T213841Z
LAST-MODIFIED:20180830T213841Z
UID:1432-1556496000-1556582399@loyola.edu.do
SUMMARY:Día del Trabajo - No laborable
DESCRIPTION:
URL:https://loyola.edu.do/event/dia-del-trabajo-no-laborable/
END:VEVENT
BEGIN:VEVENT
DTSTART;VALUE=DATE:20190427
DTEND;VALUE=DATE:20190428
DTSTAMP:20260422T204236
CREATED:20180830T223615Z
LAST-MODIFIED:20180830T223615Z
UID:1442-1556323200-1556409599@loyola.edu.do
SUMMARY:Retiro Confirmación
DESCRIPTION:
URL:https://loyola.edu.do/event/retiro-confirmacion/
END:VEVENT
BEGIN:VEVENT
DTSTART;VALUE=DATE:20190426
DTEND;VALUE=DATE:20190427
DTSTAMP:20260422T204236
CREATED:20180830T223539Z
LAST-MODIFIED:20180830T223539Z
UID:1440-1556236800-1556323199@loyola.edu.do
SUMMARY:Día de la Secretaría
DESCRIPTION:
URL:https://loyola.edu.do/event/dia-de-la-secretaria/
END:VEVENT
BEGIN:VEVENT
DTSTART;VALUE=DATE:20190425
DTEND;VALUE=DATE:20190426
DTSTAMP:20260422T204236
CREATED:20180830T223501Z
LAST-MODIFIED:20180830T223501Z
UID:1438-1556150400-1556236799@loyola.edu.do
SUMMARY:Adoración al Santísimo
DESCRIPTION:
URL:https://loyola.edu.do/event/adoracion-al-santisimo-30/
END:VEVENT
BEGIN:VEVENT
DTSTART;VALUE=DATE:20190424
DTEND;VALUE=DATE:20190427
DTSTAMP:20260422T204236
CREATED:20180830T223428Z
LAST-MODIFIED:20180830T223428Z
UID:1436-1556064000-1556323199@loyola.edu.do
SUMMARY:Semana Cultural Loyola
DESCRIPTION:
URL:https://loyola.edu.do/event/semana-cultural-loyola/
END:VEVENT
BEGIN:VEVENT
DTSTART;VALUE=DATE:20190424
DTEND;VALUE=DATE:20190427
DTSTAMP:20260422T204236
CREATED:20180830T223331Z
LAST-MODIFIED:20180830T223331Z
UID:1434-1556064000-1556323199@loyola.edu.do
SUMMARY:8va. Semana Evaluativa Nivel Secundario
DESCRIPTION:
URL:https://loyola.edu.do/event/8va-semana-evaluativa-nivel-secundario-2/
END:VEVENT
BEGIN:VEVENT
DTSTART;VALUE=DATE:20190423
DTEND;VALUE=DATE:20190429
DTSTAMP:20260422T204236
CREATED:20180830T212800Z
LAST-MODIFIED:20180830T213040Z
UID:1425-1555977600-1556495999@loyola.edu.do
SUMMARY:Ruta Ignaciana 6to. grado Nivel Secundario España
DESCRIPTION:
URL:https://loyola.edu.do/event/ruta-ignaciana-6to-grado-nivel-secundario-espana/
END:VEVENT
BEGIN:VEVENT
DTSTART;VALUE=DATE:20190423
DTEND;VALUE=DATE:20190424
DTSTAMP:20260422T204236
CREATED:20180830T212647Z
LAST-MODIFIED:20180830T212647Z
UID:1423-1555977600-1556063999@loyola.edu.do
SUMMARY:Día Mundial del libro y del Derecho de autor
DESCRIPTION:
URL:https://loyola.edu.do/event/dia-mundial-del-libro-y-del-derecho-de-autor/
END:VEVENT
BEGIN:VEVENT
DTSTART;VALUE=DATE:20190423
DTEND;VALUE=DATE:20190424
DTSTAMP:20260422T204236
CREATED:20180830T212543Z
LAST-MODIFIED:20180830T212543Z
UID:1421-1555977600-1556063999@loyola.edu.do
SUMMARY:Reinicio de Docencia
DESCRIPTION:
URL:https://loyola.edu.do/event/reinicio-de-docencia-2/
END:VEVENT
BEGIN:VEVENT
DTSTART;VALUE=DATE:20190422
DTEND;VALUE=DATE:20190423
DTSTAMP:20260422T204236
CREATED:20180830T212333Z
LAST-MODIFIED:20180830T212448Z
UID:1418-1555891200-1555977599@loyola.edu.do
SUMMARY:Pascua de Resurrección - No laborable
DESCRIPTION:
URL:https://loyola.edu.do/event/pascua-de-resurreccion/
END:VEVENT
BEGIN:VEVENT
DTSTART;VALUE=DATE:20190421
DTEND;VALUE=DATE:20190422
DTSTAMP:20260422T204236
CREATED:20180830T212140Z
LAST-MODIFIED:20180830T212140Z
UID:1416-1555804800-1555891199@loyola.edu.do
SUMMARY:Domingo de Resurrección
DESCRIPTION:
URL:https://loyola.edu.do/event/domingo-de-resurreccion/
END:VEVENT
BEGIN:VEVENT
DTSTART;VALUE=DATE:20190418
DTEND;VALUE=DATE:20190421
DTSTAMP:20260422T204236
CREATED:20180830T212054Z
LAST-MODIFIED:20180830T212054Z
UID:1414-1555545600-1555804799@loyola.edu.do
SUMMARY:Pascua Juvenil 2019
DESCRIPTION:
URL:https://loyola.edu.do/event/pascua-juvenil-2019/
END:VEVENT
BEGIN:VEVENT
DTSTART;VALUE=DATE:20190415
DTEND;VALUE=DATE:20190421
DTSTAMP:20260422T204236
CREATED:20180830T211912Z
LAST-MODIFIED:20180830T211912Z
UID:1412-1555286400-1555804799@loyola.edu.do
SUMMARY:Semana Santa
DESCRIPTION:
URL:https://loyola.edu.do/event/semana-santa/
END:VEVENT
BEGIN:VEVENT
DTSTART;VALUE=DATE:20190414
DTEND;VALUE=DATE:20190415
DTSTAMP:20260422T204236
CREATED:20180830T211834Z
LAST-MODIFIED:20180830T211834Z
UID:1410-1555200000-1555286399@loyola.edu.do
SUMMARY:Domingo de Ramos
DESCRIPTION:
URL:https://loyola.edu.do/event/domingo-de-ramos/
END:VEVENT
BEGIN:VEVENT
DTSTART;VALUE=DATE:20190412
DTEND;VALUE=DATE:20190413
DTSTAMP:20260422T204236
CREATED:20180830T211647Z
LAST-MODIFIED:20180830T211726Z
UID:1408-1555027200-1555113599@loyola.edu.do
SUMMARY:3ra. Entrega de Informes de Aprendizaje 2do. Ciclo Primaria
DESCRIPTION:
URL:https://loyola.edu.do/event/3ra-entrega-de-informes-de-aprendizaje-2do-ciclo-primaria/
END:VEVENT
BEGIN:VEVENT
DTSTART;VALUE=DATE:20190412
DTEND;VALUE=DATE:20190413
DTSTAMP:20260422T204236
CREATED:20180830T211518Z
LAST-MODIFIED:20180830T211518Z
UID:1406-1555027200-1555113599@loyola.edu.do
SUMMARY:Viernes de Dolores (Vía Crucis)
DESCRIPTION:
URL:https://loyola.edu.do/event/viernes-de-dolores-via-crucis/
END:VEVENT
BEGIN:VEVENT
DTSTART;VALUE=DATE:20190411
DTEND;VALUE=DATE:20190412
DTSTAMP:20260422T204236
CREATED:20180830T211241Z
LAST-MODIFIED:20180830T211241Z
UID:1404-1554940800-1555027199@loyola.edu.do
SUMMARY:3ra. Entrega de informes de Aprendizaje 1er. Ciclo Primaria
DESCRIPTION:
URL:https://loyola.edu.do/event/3ra-entrega-de-informes-de-aprendizaje-1er-ciclo-primaria/
END:VEVENT
BEGIN:VEVENT
DTSTART;VALUE=DATE:20190411
DTEND;VALUE=DATE:20190412
DTSTAMP:20260422T204236
CREATED:20180830T211145Z
LAST-MODIFIED:20180830T211145Z
UID:1402-1554940800-1555027199@loyola.edu.do
SUMMARY:Adoración al Santísimo
DESCRIPTION:
URL:https://loyola.edu.do/event/adoracion-al-santisimo-29/
END:VEVENT
BEGIN:VEVENT
DTSTART;VALUE=DATE:20190410
DTEND;VALUE=DATE:20190411
DTSTAMP:20260422T204236
CREATED:20180830T211108Z
LAST-MODIFIED:20180830T211108Z
UID:1400-1554854400-1554940799@loyola.edu.do
SUMMARY:2da. Entrega de Informes de Evaluación Nivel Inicial
DESCRIPTION:
URL:https://loyola.edu.do/event/2da-entrega-de-informes-de-evaluacion-nivel-inicial/
END:VEVENT
BEGIN:VEVENT
DTSTART;VALUE=DATE:20190406
DTEND;VALUE=DATE:20190407
DTSTAMP:20260422T204236
CREATED:20180830T210816Z
LAST-MODIFIED:20180830T210816Z
UID:1396-1554508800-1554595199@loyola.edu.do
SUMMARY:Día de Psicólogo/a
DESCRIPTION:
URL:https://loyola.edu.do/event/dia-de-psicologo-a/
END:VEVENT
BEGIN:VEVENT
DTSTART;VALUE=DATE:20190406
DTEND;VALUE=DATE:20190407
DTSTAMP:20260422T204236
CREATED:20180830T210734Z
LAST-MODIFIED:20180830T210734Z
UID:1394-1554508800-1554595199@loyola.edu.do
SUMMARY:Retiro Primera Comunión
DESCRIPTION:
URL:https://loyola.edu.do/event/retiro-primera-comunion/
END:VEVENT
BEGIN:VEVENT
DTSTART;VALUE=DATE:20190404
DTEND;VALUE=DATE:20190405
DTSTAMP:20260422T204236
CREATED:20180830T210524Z
LAST-MODIFIED:20180830T210524Z
UID:1392-1554336000-1554422399@loyola.edu.do
SUMMARY:Forum Loyola 7\,00 pm.
DESCRIPTION:
URL:https://loyola.edu.do/event/forum-loyola-700-pm/
END:VEVENT
BEGIN:VEVENT
DTSTART;VALUE=DATE:20190404
DTEND;VALUE=DATE:20190405
DTSTAMP:20260422T204236
CREATED:20180830T210319Z
LAST-MODIFIED:20180830T210319Z
UID:1390-1554336000-1554422399@loyola.edu.do
SUMMARY:Adoración al Santísimo
DESCRIPTION:
URL:https://loyola.edu.do/event/adoracion-al-santisimo-28/
END:VEVENT
BEGIN:VEVENT
DTSTART;VALUE=DATE:20190402
DTEND;VALUE=DATE:20190403
DTSTAMP:20260422T204236
CREATED:20180830T205807Z
LAST-MODIFIED:20180830T205807Z
UID:1388-1554163200-1554249599@loyola.edu.do
SUMMARY:Reunión de Asoc. de Padres y Madres 7\,00 pm.
DESCRIPTION:
URL:https://loyola.edu.do/event/reunion-de-asoc-de-padres-y-madres-700-pm-3/
END:VEVENT
END:VCALENDAR