BEGIN:VCALENDAR
VERSION:2.0
PRODID:-//Colegio Loyola | Santo Domingo - ECPv6.15.19//NONSGML v1.0//EN
CALSCALE:GREGORIAN
METHOD:PUBLISH
X-ORIGINAL-URL:https://loyola.edu.do
X-WR-CALDESC:Eventos para Colegio Loyola | Santo Domingo
REFRESH-INTERVAL;VALUE=DURATION:PT1H
X-Robots-Tag:noindex
X-PUBLISHED-TTL:PT1H
BEGIN:VTIMEZONE
TZID:UTC
BEGIN:STANDARD
TZOFFSETFROM:+0000
TZOFFSETTO:+0000
TZNAME:UTC
DTSTART:20180101T000000
END:STANDARD
END:VTIMEZONE
BEGIN:VEVENT
DTSTART;VALUE=DATE:20190412
DTEND;VALUE=DATE:20190413
DTSTAMP:20260422T232926
CREATED:20180830T211647Z
LAST-MODIFIED:20180830T211726Z
UID:1408-1555027200-1555113599@loyola.edu.do
SUMMARY:3ra. Entrega de Informes de Aprendizaje 2do. Ciclo Primaria
DESCRIPTION:
URL:https://loyola.edu.do/event/3ra-entrega-de-informes-de-aprendizaje-2do-ciclo-primaria/
END:VEVENT
BEGIN:VEVENT
DTSTART;VALUE=DATE:20190412
DTEND;VALUE=DATE:20190413
DTSTAMP:20260422T232926
CREATED:20180830T211518Z
LAST-MODIFIED:20180830T211518Z
UID:1406-1555027200-1555113599@loyola.edu.do
SUMMARY:Viernes de Dolores (Vía Crucis)
DESCRIPTION:
URL:https://loyola.edu.do/event/viernes-de-dolores-via-crucis/
END:VEVENT
BEGIN:VEVENT
DTSTART;VALUE=DATE:20190411
DTEND;VALUE=DATE:20190412
DTSTAMP:20260422T232926
CREATED:20180830T211241Z
LAST-MODIFIED:20180830T211241Z
UID:1404-1554940800-1555027199@loyola.edu.do
SUMMARY:3ra. Entrega de informes de Aprendizaje 1er. Ciclo Primaria
DESCRIPTION:
URL:https://loyola.edu.do/event/3ra-entrega-de-informes-de-aprendizaje-1er-ciclo-primaria/
END:VEVENT
BEGIN:VEVENT
DTSTART;VALUE=DATE:20190411
DTEND;VALUE=DATE:20190412
DTSTAMP:20260422T232926
CREATED:20180830T211145Z
LAST-MODIFIED:20180830T211145Z
UID:1402-1554940800-1555027199@loyola.edu.do
SUMMARY:Adoración al Santísimo
DESCRIPTION:
URL:https://loyola.edu.do/event/adoracion-al-santisimo-29/
END:VEVENT
BEGIN:VEVENT
DTSTART;VALUE=DATE:20190410
DTEND;VALUE=DATE:20190411
DTSTAMP:20260422T232926
CREATED:20180830T211108Z
LAST-MODIFIED:20180830T211108Z
UID:1400-1554854400-1554940799@loyola.edu.do
SUMMARY:2da. Entrega de Informes de Evaluación Nivel Inicial
DESCRIPTION:
URL:https://loyola.edu.do/event/2da-entrega-de-informes-de-evaluacion-nivel-inicial/
END:VEVENT
BEGIN:VEVENT
DTSTART;VALUE=DATE:20190406
DTEND;VALUE=DATE:20190407
DTSTAMP:20260422T232926
CREATED:20180830T210816Z
LAST-MODIFIED:20180830T210816Z
UID:1396-1554508800-1554595199@loyola.edu.do
SUMMARY:Día de Psicólogo/a
DESCRIPTION:
URL:https://loyola.edu.do/event/dia-de-psicologo-a/
END:VEVENT
BEGIN:VEVENT
DTSTART;VALUE=DATE:20190406
DTEND;VALUE=DATE:20190407
DTSTAMP:20260422T232926
CREATED:20180830T210734Z
LAST-MODIFIED:20180830T210734Z
UID:1394-1554508800-1554595199@loyola.edu.do
SUMMARY:Retiro Primera Comunión
DESCRIPTION:
URL:https://loyola.edu.do/event/retiro-primera-comunion/
END:VEVENT
BEGIN:VEVENT
DTSTART;VALUE=DATE:20190404
DTEND;VALUE=DATE:20190405
DTSTAMP:20260422T232926
CREATED:20180830T210524Z
LAST-MODIFIED:20180830T210524Z
UID:1392-1554336000-1554422399@loyola.edu.do
SUMMARY:Forum Loyola 7\,00 pm.
DESCRIPTION:
URL:https://loyola.edu.do/event/forum-loyola-700-pm/
END:VEVENT
BEGIN:VEVENT
DTSTART;VALUE=DATE:20190404
DTEND;VALUE=DATE:20190405
DTSTAMP:20260422T232926
CREATED:20180830T210319Z
LAST-MODIFIED:20180830T210319Z
UID:1390-1554336000-1554422399@loyola.edu.do
SUMMARY:Adoración al Santísimo
DESCRIPTION:
URL:https://loyola.edu.do/event/adoracion-al-santisimo-28/
END:VEVENT
BEGIN:VEVENT
DTSTART;VALUE=DATE:20190402
DTEND;VALUE=DATE:20190403
DTSTAMP:20260422T232926
CREATED:20180830T205807Z
LAST-MODIFIED:20180830T205807Z
UID:1388-1554163200-1554249599@loyola.edu.do
SUMMARY:Reunión de Asoc. de Padres y Madres 7\,00 pm.
DESCRIPTION:
URL:https://loyola.edu.do/event/reunion-de-asoc-de-padres-y-madres-700-pm-3/
END:VEVENT
BEGIN:VEVENT
DTSTART;VALUE=DATE:20190331
DTEND;VALUE=DATE:20190401
DTSTAMP:20260422T232926
CREATED:20180830T202458Z
LAST-MODIFIED:20180830T202458Z
UID:1386-1553990400-1554076799@loyola.edu.do
SUMMARY:Clausura Copa Loyola 2019
DESCRIPTION:
URL:https://loyola.edu.do/event/clausura-copa-loyola-2019/
END:VEVENT
BEGIN:VEVENT
DTSTART;VALUE=DATE:20190330
DTEND;VALUE=DATE:20190331
DTSTAMP:20260422T232926
CREATED:20180830T202417Z
LAST-MODIFIED:20180830T202417Z
UID:1384-1553904000-1553990399@loyola.edu.do
SUMMARY:Conmemoración de la Batalla del 30 de marzo
DESCRIPTION:
URL:https://loyola.edu.do/event/conmemoracion-de-la-batalla-del-30-de-marzo/
END:VEVENT
BEGIN:VEVENT
DTSTART;VALUE=DATE:20190330
DTEND;VALUE=DATE:20190331
DTSTAMP:20260422T232926
CREATED:20180830T202036Z
LAST-MODIFIED:20180830T202036Z
UID:1374-1553904000-1553990399@loyola.edu.do
SUMMARY:Copa Loyola 2019
DESCRIPTION:
URL:https://loyola.edu.do/event/copa-loyola-2019/
END:VEVENT
BEGIN:VEVENT
DTSTART;VALUE=DATE:20190328
DTEND;VALUE=DATE:20190329
DTSTAMP:20260422T232926
CREATED:20180830T202337Z
LAST-MODIFIED:20180830T202337Z
UID:1382-1553731200-1553817599@loyola.edu.do
SUMMARY:Adoración al Santísimo
DESCRIPTION:
URL:https://loyola.edu.do/event/adoracion-al-santisimo-27/
END:VEVENT
BEGIN:VEVENT
DTSTART;VALUE=DATE:20190325
DTEND;VALUE=DATE:20190330
DTSTAMP:20260422T232926
CREATED:20180830T202242Z
LAST-MODIFIED:20180830T202242Z
UID:1380-1553472000-1553903999@loyola.edu.do
SUMMARY:7ma. Semana Evaluativa Nivel Secundario
DESCRIPTION:
URL:https://loyola.edu.do/event/7ma-semana-evaluativa-nivel-secundario/
END:VEVENT
BEGIN:VEVENT
DTSTART;VALUE=DATE:20190321
DTEND;VALUE=DATE:20190322
DTSTAMP:20260422T232926
CREATED:20180830T202159Z
LAST-MODIFIED:20180830T202159Z
UID:1378-1553126400-1553212799@loyola.edu.do
SUMMARY:Adoración al Santísimo
DESCRIPTION:
URL:https://loyola.edu.do/event/adoracion-al-santisimo-26/
END:VEVENT
BEGIN:VEVENT
DTSTART;VALUE=DATE:20190320
DTEND;VALUE=DATE:20190322
DTSTAMP:20260422T232926
CREATED:20180830T202121Z
LAST-MODIFIED:20180830T202121Z
UID:1376-1553040000-1553212799@loyola.edu.do
SUMMARY:Francofonía
DESCRIPTION:
URL:https://loyola.edu.do/event/francofonia/
END:VEVENT
BEGIN:VEVENT
DTSTART;VALUE=DATE:20190319
DTEND;VALUE=DATE:20190320
DTSTAMP:20260422T232926
CREATED:20180830T201951Z
LAST-MODIFIED:20180830T201951Z
UID:1372-1552953600-1553039999@loyola.edu.do
SUMMARY:Conmemoración de la Batalla del 19 de marzo
DESCRIPTION:
URL:https://loyola.edu.do/event/conmemoracion-de-la-batalla-del-19-de-marzo/
END:VEVENT
BEGIN:VEVENT
DTSTART;VALUE=DATE:20190318
DTEND;VALUE=DATE:20190319
DTSTAMP:20260422T232926
CREATED:20180830T201803Z
LAST-MODIFIED:20180830T201803Z
UID:1370-1552867200-1552953599@loyola.edu.do
SUMMARY:Inauguración Copa Loyola 2019
DESCRIPTION:
URL:https://loyola.edu.do/event/inauguracion-copa-loyola-2019/
END:VEVENT
BEGIN:VEVENT
DTSTART;VALUE=DATE:20190315
DTEND;VALUE=DATE:20190316
DTSTAMP:20260422T232926
CREATED:20180830T201715Z
LAST-MODIFIED:20180830T201715Z
UID:1368-1552608000-1552694399@loyola.edu.do
SUMMARY:Lanzamiento Francofonía
DESCRIPTION:
URL:https://loyola.edu.do/event/lanzamiento-francofonia/
END:VEVENT
BEGIN:VEVENT
DTSTART;VALUE=DATE:20190314
DTEND;VALUE=DATE:20190315
DTSTAMP:20260422T232926
CREATED:20180830T201648Z
LAST-MODIFIED:20180830T201648Z
UID:1366-1552521600-1552607999@loyola.edu.do
SUMMARY:Adoración al Santísimo
DESCRIPTION:
URL:https://loyola.edu.do/event/adoracion-al-santisimo-25/
END:VEVENT
BEGIN:VEVENT
DTSTART;VALUE=DATE:20190313
DTEND;VALUE=DATE:20190314
DTSTAMP:20260422T232926
CREATED:20180830T201628Z
LAST-MODIFIED:20180830T201628Z
UID:1364-1552435200-1552521599@loyola.edu.do
SUMMARY:Escuela de Padres 7\,00 pm
DESCRIPTION:
URL:https://loyola.edu.do/event/escuela-de-padres-700-pm-4/
END:VEVENT
BEGIN:VEVENT
DTSTART;VALUE=DATE:20190312
DTEND;VALUE=DATE:20190314
DTSTAMP:20260422T232926
CREATED:20180830T201541Z
LAST-MODIFIED:20180830T201541Z
UID:1362-1552348800-1552521599@loyola.edu.do
SUMMARY:2do. Seminario Salidas Optativas 4to. de Nivel Secundario
DESCRIPTION:
URL:https://loyola.edu.do/event/2do-seminario-salidas-optativas-4to-de-nivel-secundario/
END:VEVENT
BEGIN:VEVENT
DTSTART;VALUE=DATE:20190311
DTEND;VALUE=DATE:20190313
DTSTAMP:20260422T232926
CREATED:20180830T201502Z
LAST-MODIFIED:20180830T201502Z
UID:1360-1552262400-1552435199@loyola.edu.do
SUMMARY:Revisión de Calificaciones de Nivel Secundario
DESCRIPTION:
URL:https://loyola.edu.do/event/revision-de-calificaciones-de-nivel-secundario-4/
END:VEVENT
BEGIN:VEVENT
DTSTART;VALUE=DATE:20190309
DTEND;VALUE=DATE:20190310
DTSTAMP:20260422T232926
CREATED:20180830T201420Z
LAST-MODIFIED:20180830T201420Z
UID:1358-1552089600-1552175999@loyola.edu.do
SUMMARY:Natalicio de Francisco del Rosario Sánchez
DESCRIPTION:
URL:https://loyola.edu.do/event/natalicio-de-francisco-del-rosario-sanchez/
END:VEVENT
BEGIN:VEVENT
DTSTART;VALUE=DATE:20190308
DTEND;VALUE=DATE:20190311
DTSTAMP:20260422T232926
CREATED:20180830T201021Z
LAST-MODIFIED:20180830T201348Z
UID:1350-1552003200-1552262399@loyola.edu.do
SUMMARY:Retiro de Cuaresma
DESCRIPTION:
URL:https://loyola.edu.do/event/retiro-de-cuaresma/
END:VEVENT
BEGIN:VEVENT
DTSTART;VALUE=DATE:20190308
DTEND;VALUE=DATE:20190309
DTSTAMP:20260422T232926
CREATED:20180830T201240Z
LAST-MODIFIED:20180830T201240Z
UID:1356-1552003200-1552089599@loyola.edu.do
SUMMARY:3ra. Entrega de Calificaciones Nivel Secundario
DESCRIPTION:
URL:https://loyola.edu.do/event/3ra-entrega-de-calificaciones-nivel-secundario/
END:VEVENT
BEGIN:VEVENT
DTSTART;VALUE=DATE:20190308
DTEND;VALUE=DATE:20190309
DTSTAMP:20260422T232926
CREATED:20180830T201209Z
LAST-MODIFIED:20180830T201209Z
UID:1354-1552003200-1552089599@loyola.edu.do
SUMMARY:Las Mujeres en la Ciencia
DESCRIPTION:
URL:https://loyola.edu.do/event/las-mujeres-en-la-ciencia/
END:VEVENT
BEGIN:VEVENT
DTSTART;VALUE=DATE:20190308
DTEND;VALUE=DATE:20190309
DTSTAMP:20260422T232926
CREATED:20180830T201142Z
LAST-MODIFIED:20180830T201142Z
UID:1352-1552003200-1552089599@loyola.edu.do
SUMMARY:Día Internacional de la Mujer (Acto Cívico)
DESCRIPTION:
URL:https://loyola.edu.do/event/dia-internacional-de-la-mujer-acto-civico/
END:VEVENT
BEGIN:VEVENT
DTSTART;VALUE=DATE:20190307
DTEND;VALUE=DATE:20190308
DTSTAMP:20260422T232926
CREATED:20180830T200938Z
LAST-MODIFIED:20180830T200938Z
UID:1348-1551916800-1552003199@loyola.edu.do
SUMMARY:Salida Pedagógica 3ro. Nivel Primario
DESCRIPTION:
URL:https://loyola.edu.do/event/salida-pedagogica-3ro-nivel-primario/
END:VEVENT
END:VCALENDAR