BEGIN:VCALENDAR
VERSION:2.0
PRODID:-//Colegio Loyola | Santo Domingo - ECPv6.15.19//NONSGML v1.0//EN
CALSCALE:GREGORIAN
METHOD:PUBLISH
X-ORIGINAL-URL:https://loyola.edu.do
X-WR-CALDESC:Eventos para Colegio Loyola | Santo Domingo
REFRESH-INTERVAL;VALUE=DURATION:PT1H
X-Robots-Tag:noindex
X-PUBLISHED-TTL:PT1H
BEGIN:VTIMEZONE
TZID:UTC
BEGIN:STANDARD
TZOFFSETFROM:+0000
TZOFFSETTO:+0000
TZNAME:UTC
DTSTART:20170101T000000
END:STANDARD
END:VTIMEZONE
BEGIN:VEVENT
DTSTART;VALUE=DATE:20190124
DTEND;VALUE=DATE:20190125
DTSTAMP:20260423T071610
CREATED:20180830T171603Z
LAST-MODIFIED:20180830T171603Z
UID:1286-1548288000-1548374399@loyola.edu.do
SUMMARY:Adoración al Santísimo
DESCRIPTION:
URL:https://loyola.edu.do/event/adoracion-al-santisimo-18/
END:VEVENT
BEGIN:VEVENT
DTSTART;VALUE=DATE:20190122
DTEND;VALUE=DATE:20190126
DTSTAMP:20260423T071610
CREATED:20180830T171521Z
LAST-MODIFIED:20180830T171530Z
UID:1284-1548115200-1548460799@loyola.edu.do
SUMMARY:Olimpiadas de Ortografía y Lectura (Nivel Primario y Nivel Secundario)
DESCRIPTION:
URL:https://loyola.edu.do/event/olimpiadas-de-ortografia-y-lectura-nivel-primario-y-nivel-secundario/
END:VEVENT
BEGIN:VEVENT
DTSTART;VALUE=DATE:20190121
DTEND;VALUE=DATE:20190122
DTSTAMP:20260423T071610
CREATED:20180830T171417Z
LAST-MODIFIED:20180830T171445Z
UID:1280-1548028800-1548115199@loyola.edu.do
SUMMARY:Día de la Virgen de la Altagracia (No laborable)
DESCRIPTION:
URL:https://loyola.edu.do/event/dia-de-la-virgen-de-la-altagracia/
END:VEVENT
BEGIN:VEVENT
DTSTART;VALUE=DATE:20190118
DTEND;VALUE=DATE:20190119
DTSTAMP:20260423T071610
CREATED:20180830T171327Z
LAST-MODIFIED:20180830T171327Z
UID:1278-1547769600-1547855999@loyola.edu.do
SUMMARY:Misa de la Virgen de la Altagracia
DESCRIPTION:
URL:https://loyola.edu.do/event/misa-de-la-virgen-de-la-altagracia/
END:VEVENT
BEGIN:VEVENT
DTSTART;VALUE=DATE:20190117
DTEND;VALUE=DATE:20190118
DTSTAMP:20260423T071610
CREATED:20180830T171301Z
LAST-MODIFIED:20180830T171301Z
UID:1276-1547683200-1547769599@loyola.edu.do
SUMMARY:Adoración al Santísimo
DESCRIPTION:
URL:https://loyola.edu.do/event/adoracion-al-santisimo-17/
END:VEVENT
BEGIN:VEVENT
DTSTART;VALUE=DATE:20190116
DTEND;VALUE=DATE:20190117
DTSTAMP:20260423T071610
CREATED:20180830T171239Z
LAST-MODIFIED:20180830T171239Z
UID:1274-1547596800-1547683199@loyola.edu.do
SUMMARY:Salida Pedagógica 5to. Nivel Secundario
DESCRIPTION:
URL:https://loyola.edu.do/event/salida-pedagogica-5to-nivel-secundario/
END:VEVENT
BEGIN:VEVENT
DTSTART;VALUE=DATE:20190116
DTEND;VALUE=DATE:20190117
DTSTAMP:20260423T071610
CREATED:20180830T171200Z
LAST-MODIFIED:20180830T171200Z
UID:1272-1547596800-1547683199@loyola.edu.do
SUMMARY:Salida Pedagógica 2do. Nivel Secundario
DESCRIPTION:
URL:https://loyola.edu.do/event/salida-pedagogica-2do-nivel-secundario/
END:VEVENT
BEGIN:VEVENT
DTSTART;VALUE=DATE:20190110
DTEND;VALUE=DATE:20190111
DTSTAMP:20260423T071610
CREATED:20180830T171103Z
LAST-MODIFIED:20180830T171103Z
UID:1270-1547078400-1547164799@loyola.edu.do
SUMMARY:Adoración al Santísimo
DESCRIPTION:
URL:https://loyola.edu.do/event/adoracion-al-santisimo-16/
END:VEVENT
BEGIN:VEVENT
DTSTART;VALUE=DATE:20190108
DTEND;VALUE=DATE:20190109
DTSTAMP:20260423T071610
CREATED:20180830T170336Z
LAST-MODIFIED:20180830T170336Z
UID:1268-1546905600-1546991999@loyola.edu.do
SUMMARY:Reinicio de Docencia
DESCRIPTION:
URL:https://loyola.edu.do/event/reinicio-de-docencia/
END:VEVENT
BEGIN:VEVENT
DTSTART;VALUE=DATE:20190107
DTEND;VALUE=DATE:20190108
DTSTAMP:20260423T071610
CREATED:20180830T170236Z
LAST-MODIFIED:20180830T170236Z
UID:1266-1546819200-1546905599@loyola.edu.do
SUMMARY:Reintegración de Personal Docente y Administrativo
DESCRIPTION:
URL:https://loyola.edu.do/event/reintegracion-de-personal-docente-y-administrativo/
END:VEVENT
BEGIN:VEVENT
DTSTART;VALUE=DATE:20190106
DTEND;VALUE=DATE:20190107
DTSTAMP:20260423T071610
CREATED:20180830T170201Z
LAST-MODIFIED:20180830T170201Z
UID:1264-1546732800-1546819199@loyola.edu.do
SUMMARY:Día de la Epifania del Señor
DESCRIPTION:
URL:https://loyola.edu.do/event/dia-de-la-epifania-del-senor/
END:VEVENT
BEGIN:VEVENT
DTSTART;VALUE=DATE:20190102
DTEND;VALUE=DATE:20190108
DTSTAMP:20260423T071610
CREATED:20180830T170000Z
LAST-MODIFIED:20180830T170117Z
UID:1262-1546387200-1546905599@loyola.edu.do
SUMMARY:Pico Duarte (CEL)
DESCRIPTION:
URL:https://loyola.edu.do/event/pico-duarte-cel/
END:VEVENT
BEGIN:VEVENT
DTSTART;VALUE=DATE:20181225
DTEND;VALUE=DATE:20181226
DTSTAMP:20260423T071610
CREATED:20180829T235855Z
LAST-MODIFIED:20180829T235855Z
UID:1260-1545696000-1545782399@loyola.edu.do
SUMMARY:Día de Navidad
DESCRIPTION:
URL:https://loyola.edu.do/event/dia-de-navidad/
END:VEVENT
BEGIN:VEVENT
DTSTART;VALUE=DATE:20181224
DTEND;VALUE=DATE:20181225
DTSTAMP:20260423T071610
CREATED:20180829T235837Z
LAST-MODIFIED:20180829T235837Z
UID:1258-1545609600-1545695999@loyola.edu.do
SUMMARY:Noche Buena
DESCRIPTION:
URL:https://loyola.edu.do/event/noche-buena/
END:VEVENT
BEGIN:VEVENT
DTSTART;VALUE=DATE:20181220
DTEND;VALUE=DATE:20181221
DTSTAMP:20260423T071610
CREATED:20180829T235732Z
LAST-MODIFIED:20180829T235732Z
UID:1256-1545264000-1545350399@loyola.edu.do
SUMMARY:Revisión de Calificaciones de Nivel Secundario
DESCRIPTION:
URL:https://loyola.edu.do/event/revision-de-calificaciones-de-nivel-secundario-3/
END:VEVENT
BEGIN:VEVENT
DTSTART;VALUE=DATE:20181219
DTEND;VALUE=DATE:20181220
DTSTAMP:20260423T071610
CREATED:20180829T235707Z
LAST-MODIFIED:20180829T235707Z
UID:1254-1545177600-1545263999@loyola.edu.do
SUMMARY:2da. Entrega de Calificaciones Nivel Secundario
DESCRIPTION:
URL:https://loyola.edu.do/event/2da-entrega-de-calificaciones-nivel-secundario/
END:VEVENT
BEGIN:VEVENT
DTSTART;VALUE=DATE:20181217
DTEND;VALUE=DATE:20181219
DTSTAMP:20260423T071610
CREATED:20180829T235631Z
LAST-MODIFIED:20180829T235631Z
UID:1252-1545004800-1545177599@loyola.edu.do
SUMMARY:1ra. Entrega de Informes de Evaluación Nivel Inicial
DESCRIPTION:
URL:https://loyola.edu.do/event/1ra-entrega-de-informes-de-evaluacion-nivel-inicial/
END:VEVENT
BEGIN:VEVENT
DTSTART;VALUE=DATE:20181214
DTEND;VALUE=DATE:20181215
DTSTAMP:20260423T071610
CREATED:20180829T235517Z
LAST-MODIFIED:20180829T235517Z
UID:1250-1544745600-1544831999@loyola.edu.do
SUMMARY:Claustro Docente
DESCRIPTION:
URL:https://loyola.edu.do/event/claustro-docente/
END:VEVENT
BEGIN:VEVENT
DTSTART;VALUE=DATE:20181214
DTEND;VALUE=DATE:20181215
DTSTAMP:20260423T071610
CREATED:20180829T235446Z
LAST-MODIFIED:20180829T235446Z
UID:1248-1544745600-1544831999@loyola.edu.do
SUMMARY:Retiro de Adviento
DESCRIPTION:
URL:https://loyola.edu.do/event/retiro-de-adviento/
END:VEVENT
BEGIN:VEVENT
DTSTART;VALUE=DATE:20181213
DTEND;VALUE=DATE:20181214
DTSTAMP:20260423T071610
CREATED:20180829T235415Z
LAST-MODIFIED:20180829T235415Z
UID:1246-1544659200-1544745599@loyola.edu.do
SUMMARY:Velada Navideña
DESCRIPTION:
URL:https://loyola.edu.do/event/velada-navidena/
END:VEVENT
BEGIN:VEVENT
DTSTART;VALUE=DATE:20181213
DTEND;VALUE=DATE:20181214
DTSTAMP:20260423T071610
CREATED:20180829T235341Z
LAST-MODIFIED:20180829T235341Z
UID:1244-1544659200-1544745599@loyola.edu.do
SUMMARY:Último día de clases Nivel Inicial\, Nivel Primario y Nivel Secundario
DESCRIPTION:
URL:https://loyola.edu.do/event/ultimo-dia-de-clases-nivel-inicial-nivel-primario-y-nivel-secundario/
END:VEVENT
BEGIN:VEVENT
DTSTART;VALUE=DATE:20181213
DTEND;VALUE=DATE:20181214
DTSTAMP:20260423T071610
CREATED:20180829T235202Z
LAST-MODIFIED:20180829T235202Z
UID:1242-1544659200-1544745599@loyola.edu.do
SUMMARY:Cierre de Actividades Co-Curriculares
DESCRIPTION:
URL:https://loyola.edu.do/event/cierre-de-actividades-co-curriculares/
END:VEVENT
BEGIN:VEVENT
DTSTART;VALUE=DATE:20181213
DTEND;VALUE=DATE:20181214
DTSTAMP:20260423T071610
CREATED:20180829T235035Z
LAST-MODIFIED:20180829T235035Z
UID:1240-1544659200-1544745599@loyola.edu.do
SUMMARY:Adoración al Santísimo
DESCRIPTION:
URL:https://loyola.edu.do/event/adoracion-al-santisimo-15/
END:VEVENT
BEGIN:VEVENT
DTSTART;VALUE=DATE:20181212
DTEND;VALUE=DATE:20181213
DTSTAMP:20260423T071610
CREATED:20180829T234951Z
LAST-MODIFIED:20180829T234951Z
UID:1238-1544572800-1544659199@loyola.edu.do
SUMMARY:Escuela de Padres 7\,00 pm
DESCRIPTION:
URL:https://loyola.edu.do/event/escuela-de-padres-700-pm-2/
END:VEVENT
BEGIN:VEVENT
DTSTART;VALUE=DATE:20181212
DTEND;VALUE=DATE:20181213
DTSTAMP:20260423T071610
CREATED:20180829T234843Z
LAST-MODIFIED:20180829T234843Z
UID:1236-1544572800-1544659199@loyola.edu.do
SUMMARY:Entrega de Carta de Tarifas
DESCRIPTION:
URL:https://loyola.edu.do/event/entrega-de-carta-de-tarifas/
END:VEVENT
BEGIN:VEVENT
DTSTART;VALUE=DATE:20181210
DTEND;VALUE=DATE:20181214
DTSTAMP:20260423T071610
CREATED:20180829T232329Z
LAST-MODIFIED:20180829T232329Z
UID:1232-1544400000-1544745599@loyola.edu.do
SUMMARY:4ta. Semana Evaluativa Nivel Secundario
DESCRIPTION:
URL:https://loyola.edu.do/event/4ta-semana-evaluativa-nivel-secundario-2/
END:VEVENT
BEGIN:VEVENT
DTSTART;VALUE=DATE:20181210
DTEND;VALUE=DATE:20181211
DTSTAMP:20260423T071610
CREATED:20180829T232153Z
LAST-MODIFIED:20180829T232153Z
UID:1230-1544400000-1544486399@loyola.edu.do
SUMMARY:Encendido de 2do. velón de Adviento
DESCRIPTION:
URL:https://loyola.edu.do/event/encendido-de-2do-velon-de-adviento/
END:VEVENT
BEGIN:VEVENT
DTSTART;VALUE=DATE:20181207
DTEND;VALUE=DATE:20181208
DTSTAMP:20260423T071610
CREATED:20180829T232036Z
LAST-MODIFIED:20180829T232036Z
UID:1228-1544140800-1544227199@loyola.edu.do
SUMMARY:4ta. Semana Evaluativa Nivel Secundario
DESCRIPTION:
URL:https://loyola.edu.do/event/4ta-semana-evaluativa-nivel-secundario/
END:VEVENT
BEGIN:VEVENT
DTSTART;VALUE=DATE:20181206
DTEND;VALUE=DATE:20181207
DTSTAMP:20260423T071610
CREATED:20180829T231939Z
LAST-MODIFIED:20180829T231939Z
UID:1226-1544054400-1544140799@loyola.edu.do
SUMMARY:Adoración al Santísimo
DESCRIPTION:
URL:https://loyola.edu.do/event/adoracion-al-santisimo-14/
END:VEVENT
BEGIN:VEVENT
DTSTART;VALUE=DATE:20181204
DTEND;VALUE=DATE:20181205
DTSTAMP:20260423T071610
CREATED:20180829T231702Z
LAST-MODIFIED:20180829T231702Z
UID:1224-1543881600-1543967999@loyola.edu.do
SUMMARY:Reunión de Asoc. de Padres y Madres 7\,00 pm.
DESCRIPTION:
URL:https://loyola.edu.do/event/reunion-de-asoc-de-padres-y-madres-700-pm-2/
END:VEVENT
END:VCALENDAR